BEGIN:VCALENDAR
VERSION:2.0
PRODID:-//Present Pillars - ECPv6.15.17.1//NONSGML v1.0//EN
CALSCALE:GREGORIAN
METHOD:PUBLISH
X-ORIGINAL-URL:https://presentpillars.org
X-WR-CALDESC:Events for Present Pillars
REFRESH-INTERVAL;VALUE=DURATION:PT1H
X-Robots-Tag:noindex
X-PUBLISHED-TTL:PT1H
BEGIN:VTIMEZONE
TZID:America/Detroit
BEGIN:DAYLIGHT
TZOFFSETFROM:-0500
TZOFFSETTO:-0400
TZNAME:EDT
DTSTART:20250309T070000
END:DAYLIGHT
BEGIN:STANDARD
TZOFFSETFROM:-0400
TZOFFSETTO:-0500
TZNAME:EST
DTSTART:20251102T060000
END:STANDARD
BEGIN:DAYLIGHT
TZOFFSETFROM:-0500
TZOFFSETTO:-0400
TZNAME:EDT
DTSTART:20260308T070000
END:DAYLIGHT
BEGIN:STANDARD
TZOFFSETFROM:-0400
TZOFFSETTO:-0500
TZNAME:EST
DTSTART:20261101T060000
END:STANDARD
BEGIN:DAYLIGHT
TZOFFSETFROM:-0500
TZOFFSETTO:-0400
TZNAME:EDT
DTSTART:20270314T070000
END:DAYLIGHT
BEGIN:STANDARD
TZOFFSETFROM:-0400
TZOFFSETTO:-0500
TZNAME:EST
DTSTART:20271107T060000
END:STANDARD
END:VTIMEZONE
BEGIN:VEVENT
DTSTART;TZID=America/Detroit:20260601T120000
DTEND;TZID=America/Detroit:20260601T140000
DTSTAMP:20260421T070623
CREATED:20260122T151936Z
LAST-MODIFIED:20260204T163659Z
UID:10000300-1780315200-1780322400@presentpillars.org
SUMMARY:Men’s Health Month Kick-Off
DESCRIPTION:A community kickoff event to launch Men’s Health Month with energy and purpose. This event aims to raise awareness about the importance of men’s physical\, mental\, and emotional well-being\, spark community participation in healthy habits\, and provide resources for ongoing support. Activities may include wellness talks\, screenings\, fitness tips\, and connections to healthcare resources.
URL:https://presentpillars.org/event/mens-health-month-kick-off/
LOCATION:Pillar Center\, 315 East Main St\, Benton Harbor\, MI\, 49022\, United States
END:VEVENT
BEGIN:VEVENT
DTSTART;TZID=America/Detroit:20260601T150000
DTEND;TZID=America/Detroit:20260601T190000
DTSTAMP:20260421T070623
CREATED:20260408T143251Z
LAST-MODIFIED:20260408T143251Z
UID:10000325-1780326000-1780340400@presentpillars.org
SUMMARY:Man Cave Monday
DESCRIPTION:Man Cave Monday is a space for men to connect\, grow\, and have real conversations. Each week\, we focus on topics like fatherhood\, personal growth\, leadership\, and mental wellness. \nJoin us and be part of the growth.
URL:https://presentpillars.org/event/man-cave-monday/2026-06-01/
LOCATION:Pillar Center\, 315 East Main St\, Benton Harbor\, MI\, 49022\, United States
END:VEVENT
END:VCALENDAR