BEGIN:VCALENDAR
VERSION:2.0
PRODID:-//Present Pillars - ECPv6.15.17.1//NONSGML v1.0//EN
CALSCALE:GREGORIAN
METHOD:PUBLISH
X-ORIGINAL-URL:https://presentpillars.org
X-WR-CALDESC:Events for Present Pillars
REFRESH-INTERVAL;VALUE=DURATION:PT1H
X-Robots-Tag:noindex
X-PUBLISHED-TTL:PT1H
BEGIN:VTIMEZONE
TZID:America/Detroit
BEGIN:DAYLIGHT
TZOFFSETFROM:-0500
TZOFFSETTO:-0400
TZNAME:EDT
DTSTART:20250309T070000
END:DAYLIGHT
BEGIN:STANDARD
TZOFFSETFROM:-0400
TZOFFSETTO:-0500
TZNAME:EST
DTSTART:20251102T060000
END:STANDARD
BEGIN:DAYLIGHT
TZOFFSETFROM:-0500
TZOFFSETTO:-0400
TZNAME:EDT
DTSTART:20260308T070000
END:DAYLIGHT
BEGIN:STANDARD
TZOFFSETFROM:-0400
TZOFFSETTO:-0500
TZNAME:EST
DTSTART:20261101T060000
END:STANDARD
BEGIN:DAYLIGHT
TZOFFSETFROM:-0500
TZOFFSETTO:-0400
TZNAME:EDT
DTSTART:20270314T070000
END:DAYLIGHT
BEGIN:STANDARD
TZOFFSETFROM:-0400
TZOFFSETTO:-0500
TZNAME:EST
DTSTART:20271107T060000
END:STANDARD
END:VTIMEZONE
BEGIN:VEVENT
DTSTART;TZID=America/Detroit:20260620T083000
DTEND;TZID=America/Detroit:20260620T130000
DTSTAMP:20260421T070631
CREATED:20260122T152432Z
LAST-MODIFIED:20260204T163835Z
UID:10000302-1781944200-1781960400@presentpillars.org
SUMMARY:2nd Annual Men’s Health 5K
DESCRIPTION:A community walk/run that brings participants together to support and spotlight men’s health. Whether walking\, jogging\, or racing to the finish line\, this 5K encourages healthier lifestyles while building camaraderie among community members. It emphasizes movement as a key ingredient in physical\, mental\, and social wellness — and invites families and friends to join in the celebration of health.
URL:https://presentpillars.org/event/2nd-annual-mens-health-5k/
LOCATION:TBA
END:VEVENT
END:VCALENDAR