BEGIN:VCALENDAR
VERSION:2.0
PRODID:-//Present Pillars - ECPv6.15.17.1//NONSGML v1.0//EN
CALSCALE:GREGORIAN
METHOD:PUBLISH
X-WR-CALNAME:Present Pillars
X-ORIGINAL-URL:https://presentpillars.org
X-WR-CALDESC:Events for Present Pillars
REFRESH-INTERVAL;VALUE=DURATION:PT1H
X-Robots-Tag:noindex
X-PUBLISHED-TTL:PT1H
BEGIN:VTIMEZONE
TZID:America/Detroit
BEGIN:DAYLIGHT
TZOFFSETFROM:-0500
TZOFFSETTO:-0400
TZNAME:EDT
DTSTART:20240310T070000
END:DAYLIGHT
BEGIN:STANDARD
TZOFFSETFROM:-0400
TZOFFSETTO:-0500
TZNAME:EST
DTSTART:20241103T060000
END:STANDARD
BEGIN:DAYLIGHT
TZOFFSETFROM:-0500
TZOFFSETTO:-0400
TZNAME:EDT
DTSTART:20250309T070000
END:DAYLIGHT
BEGIN:STANDARD
TZOFFSETFROM:-0400
TZOFFSETTO:-0500
TZNAME:EST
DTSTART:20251102T060000
END:STANDARD
BEGIN:DAYLIGHT
TZOFFSETFROM:-0500
TZOFFSETTO:-0400
TZNAME:EDT
DTSTART:20260308T070000
END:DAYLIGHT
BEGIN:STANDARD
TZOFFSETFROM:-0400
TZOFFSETTO:-0500
TZNAME:EST
DTSTART:20261101T060000
END:STANDARD
BEGIN:DAYLIGHT
TZOFFSETFROM:-0500
TZOFFSETTO:-0400
TZNAME:EDT
DTSTART:20270314T070000
END:DAYLIGHT
BEGIN:STANDARD
TZOFFSETFROM:-0400
TZOFFSETTO:-0500
TZNAME:EST
DTSTART:20271107T060000
END:STANDARD
END:VTIMEZONE
BEGIN:VEVENT
DTSTART;TZID=America/Detroit:20260420T150000
DTEND;TZID=America/Detroit:20260420T190000
DTSTAMP:20260421T143746
CREATED:20260408T143251Z
LAST-MODIFIED:20260408T143251Z
UID:10000319-1776697200-1776711600@presentpillars.org
SUMMARY:Man Cave Monday
DESCRIPTION:Man Cave Monday is a space for men to connect\, grow\, and have real conversations. Each week\, we focus on topics like fatherhood\, personal growth\, leadership\, and mental wellness. \nJoin us and be part of the growth.
URL:https://presentpillars.org/event/man-cave-monday/2026-04-20/
LOCATION:Pillar Center\, 315 East Main St\, Benton Harbor\, MI\, 49022\, United States
END:VEVENT
BEGIN:VEVENT
DTSTART;TZID=America/Detroit:20260413T150000
DTEND;TZID=America/Detroit:20260413T190000
DTSTAMP:20260421T143746
CREATED:20260408T143251Z
LAST-MODIFIED:20260408T143251Z
UID:10000318-1776092400-1776106800@presentpillars.org
SUMMARY:Man Cave Monday
DESCRIPTION:Man Cave Monday is a space for men to connect\, grow\, and have real conversations. Each week\, we focus on topics like fatherhood\, personal growth\, leadership\, and mental wellness. \nJoin us and be part of the growth.
URL:https://presentpillars.org/event/man-cave-monday/2026-04-13/
LOCATION:Pillar Center\, 315 East Main St\, Benton Harbor\, MI\, 49022\, United States
END:VEVENT
BEGIN:VEVENT
DTSTART;TZID=America/Detroit:20251011T180000
DTEND;TZID=America/Detroit:20251011T210000
DTSTAMP:20260421T143746
CREATED:20250904T183127Z
LAST-MODIFIED:20250904T183359Z
UID:10000017-1760205600-1760216400@presentpillars.org
SUMMARY:4th Annual Pillar Awards
DESCRIPTION:
URL:https://presentpillars.org/event/4th-annual-pillar-awards/
LOCATION:Four Winds Casino New Buffalo\, 11111 Wilson Rd\, New Buffalo\, MI\, 49117\, United States
ORGANIZER;CN="Present Pillars":MAILTO:info@presentpillars.org
END:VEVENT
END:VCALENDAR