BEGIN:VCALENDAR
VERSION:2.0
PRODID:-//Present Pillars - ECPv6.15.17.1//NONSGML v1.0//EN
CALSCALE:GREGORIAN
METHOD:PUBLISH
X-ORIGINAL-URL:https://presentpillars.org
X-WR-CALDESC:Events for Present Pillars
REFRESH-INTERVAL;VALUE=DURATION:PT1H
X-Robots-Tag:noindex
X-PUBLISHED-TTL:PT1H
BEGIN:VTIMEZONE
TZID:America/Detroit
BEGIN:DAYLIGHT
TZOFFSETFROM:-0500
TZOFFSETTO:-0400
TZNAME:EDT
DTSTART:20250309T070000
END:DAYLIGHT
BEGIN:STANDARD
TZOFFSETFROM:-0400
TZOFFSETTO:-0500
TZNAME:EST
DTSTART:20251102T060000
END:STANDARD
BEGIN:DAYLIGHT
TZOFFSETFROM:-0500
TZOFFSETTO:-0400
TZNAME:EDT
DTSTART:20260308T070000
END:DAYLIGHT
BEGIN:STANDARD
TZOFFSETFROM:-0400
TZOFFSETTO:-0500
TZNAME:EST
DTSTART:20261101T060000
END:STANDARD
BEGIN:DAYLIGHT
TZOFFSETFROM:-0500
TZOFFSETTO:-0400
TZNAME:EDT
DTSTART:20270314T070000
END:DAYLIGHT
BEGIN:STANDARD
TZOFFSETFROM:-0400
TZOFFSETTO:-0500
TZNAME:EST
DTSTART:20271107T060000
END:STANDARD
END:VTIMEZONE
BEGIN:VEVENT
DTSTART;TZID=America/Detroit:20260615T150000
DTEND;TZID=America/Detroit:20260615T190000
DTSTAMP:20260421T101449
CREATED:20260408T143251Z
LAST-MODIFIED:20260408T143251Z
UID:10000327-1781535600-1781550000@presentpillars.org
SUMMARY:Man Cave Monday
DESCRIPTION:Man Cave Monday is a space for men to connect\, grow\, and have real conversations. Each week\, we focus on topics like fatherhood\, personal growth\, leadership\, and mental wellness. \nJoin us and be part of the growth.
URL:https://presentpillars.org/event/man-cave-monday/2026-06-15/
LOCATION:Pillar Center\, 315 East Main St\, Benton Harbor\, MI\, 49022\, United States
END:VEVENT
BEGIN:VEVENT
DTSTART;TZID=America/Detroit:20260620T083000
DTEND;TZID=America/Detroit:20260620T130000
DTSTAMP:20260421T101449
CREATED:20260122T152432Z
LAST-MODIFIED:20260204T163835Z
UID:10000302-1781944200-1781960400@presentpillars.org
SUMMARY:2nd Annual Men’s Health 5K
DESCRIPTION:A community walk/run that brings participants together to support and spotlight men’s health. Whether walking\, jogging\, or racing to the finish line\, this 5K encourages healthier lifestyles while building camaraderie among community members. It emphasizes movement as a key ingredient in physical\, mental\, and social wellness — and invites families and friends to join in the celebration of health.
URL:https://presentpillars.org/event/2nd-annual-mens-health-5k/
LOCATION:TBA
END:VEVENT
BEGIN:VEVENT
DTSTART;TZID=America/Detroit:20260622T150000
DTEND;TZID=America/Detroit:20260622T190000
DTSTAMP:20260421T101449
CREATED:20260408T143251Z
LAST-MODIFIED:20260408T143251Z
UID:10000328-1782140400-1782154800@presentpillars.org
SUMMARY:Man Cave Monday
DESCRIPTION:Man Cave Monday is a space for men to connect\, grow\, and have real conversations. Each week\, we focus on topics like fatherhood\, personal growth\, leadership\, and mental wellness. \nJoin us and be part of the growth.
URL:https://presentpillars.org/event/man-cave-monday/2026-06-22/
LOCATION:Pillar Center\, 315 East Main St\, Benton Harbor\, MI\, 49022\, United States
END:VEVENT
BEGIN:VEVENT
DTSTART;TZID=America/Detroit:20260629T150000
DTEND;TZID=America/Detroit:20260629T190000
DTSTAMP:20260421T101449
CREATED:20260408T143251Z
LAST-MODIFIED:20260408T143251Z
UID:10000329-1782745200-1782759600@presentpillars.org
SUMMARY:Man Cave Monday
DESCRIPTION:Man Cave Monday is a space for men to connect\, grow\, and have real conversations. Each week\, we focus on topics like fatherhood\, personal growth\, leadership\, and mental wellness. \nJoin us and be part of the growth.
URL:https://presentpillars.org/event/man-cave-monday/2026-06-29/
LOCATION:Pillar Center\, 315 East Main St\, Benton Harbor\, MI\, 49022\, United States
END:VEVENT
BEGIN:VEVENT
DTSTART;TZID=America/Detroit:20260706T150000
DTEND;TZID=America/Detroit:20260706T190000
DTSTAMP:20260421T101449
CREATED:20260408T143251Z
LAST-MODIFIED:20260408T143251Z
UID:10000330-1783350000-1783364400@presentpillars.org
SUMMARY:Man Cave Monday
DESCRIPTION:Man Cave Monday is a space for men to connect\, grow\, and have real conversations. Each week\, we focus on topics like fatherhood\, personal growth\, leadership\, and mental wellness. \nJoin us and be part of the growth.
URL:https://presentpillars.org/event/man-cave-monday/2026-07-06/
LOCATION:Pillar Center\, 315 East Main St\, Benton Harbor\, MI\, 49022\, United States
END:VEVENT
BEGIN:VEVENT
DTSTART;TZID=America/Detroit:20260713T150000
DTEND;TZID=America/Detroit:20260713T190000
DTSTAMP:20260421T101449
CREATED:20260408T143251Z
LAST-MODIFIED:20260408T143251Z
UID:10000331-1783954800-1783969200@presentpillars.org
SUMMARY:Man Cave Monday
DESCRIPTION:Man Cave Monday is a space for men to connect\, grow\, and have real conversations. Each week\, we focus on topics like fatherhood\, personal growth\, leadership\, and mental wellness. \nJoin us and be part of the growth.
URL:https://presentpillars.org/event/man-cave-monday/2026-07-13/
LOCATION:Pillar Center\, 315 East Main St\, Benton Harbor\, MI\, 49022\, United States
END:VEVENT
BEGIN:VEVENT
DTSTART;TZID=America/Detroit:20260720T150000
DTEND;TZID=America/Detroit:20260720T190000
DTSTAMP:20260421T101449
CREATED:20260408T143251Z
LAST-MODIFIED:20260408T143251Z
UID:10000332-1784559600-1784574000@presentpillars.org
SUMMARY:Man Cave Monday
DESCRIPTION:Man Cave Monday is a space for men to connect\, grow\, and have real conversations. Each week\, we focus on topics like fatherhood\, personal growth\, leadership\, and mental wellness. \nJoin us and be part of the growth.
URL:https://presentpillars.org/event/man-cave-monday/2026-07-20/
LOCATION:Pillar Center\, 315 East Main St\, Benton Harbor\, MI\, 49022\, United States
END:VEVENT
BEGIN:VEVENT
DTSTART;TZID=America/Detroit:20260727T150000
DTEND;TZID=America/Detroit:20260727T190000
DTSTAMP:20260421T101449
CREATED:20260408T143251Z
LAST-MODIFIED:20260408T143251Z
UID:10000333-1785164400-1785178800@presentpillars.org
SUMMARY:Man Cave Monday
DESCRIPTION:Man Cave Monday is a space for men to connect\, grow\, and have real conversations. Each week\, we focus on topics like fatherhood\, personal growth\, leadership\, and mental wellness. \nJoin us and be part of the growth.
URL:https://presentpillars.org/event/man-cave-monday/2026-07-27/
LOCATION:Pillar Center\, 315 East Main St\, Benton Harbor\, MI\, 49022\, United States
END:VEVENT
BEGIN:VEVENT
DTSTART;TZID=America/Detroit:20260803T150000
DTEND;TZID=America/Detroit:20260803T190000
DTSTAMP:20260421T101449
CREATED:20260408T143251Z
LAST-MODIFIED:20260408T143251Z
UID:10000334-1785769200-1785783600@presentpillars.org
SUMMARY:Man Cave Monday
DESCRIPTION:Man Cave Monday is a space for men to connect\, grow\, and have real conversations. Each week\, we focus on topics like fatherhood\, personal growth\, leadership\, and mental wellness. \nJoin us and be part of the growth.
URL:https://presentpillars.org/event/man-cave-monday/2026-08-03/
LOCATION:Pillar Center\, 315 East Main St\, Benton Harbor\, MI\, 49022\, United States
END:VEVENT
BEGIN:VEVENT
DTSTART;TZID=America/Detroit:20260810T150000
DTEND;TZID=America/Detroit:20260810T190000
DTSTAMP:20260421T101449
CREATED:20260408T143251Z
LAST-MODIFIED:20260408T143251Z
UID:10000335-1786374000-1786388400@presentpillars.org
SUMMARY:Man Cave Monday
DESCRIPTION:Man Cave Monday is a space for men to connect\, grow\, and have real conversations. Each week\, we focus on topics like fatherhood\, personal growth\, leadership\, and mental wellness. \nJoin us and be part of the growth.
URL:https://presentpillars.org/event/man-cave-monday/2026-08-10/
LOCATION:Pillar Center\, 315 East Main St\, Benton Harbor\, MI\, 49022\, United States
END:VEVENT
BEGIN:VEVENT
DTSTART;TZID=America/Detroit:20260817T150000
DTEND;TZID=America/Detroit:20260817T190000
DTSTAMP:20260421T101449
CREATED:20260408T143251Z
LAST-MODIFIED:20260408T143251Z
UID:10000336-1786978800-1786993200@presentpillars.org
SUMMARY:Man Cave Monday
DESCRIPTION:Man Cave Monday is a space for men to connect\, grow\, and have real conversations. Each week\, we focus on topics like fatherhood\, personal growth\, leadership\, and mental wellness. \nJoin us and be part of the growth.
URL:https://presentpillars.org/event/man-cave-monday/2026-08-17/
LOCATION:Pillar Center\, 315 East Main St\, Benton Harbor\, MI\, 49022\, United States
END:VEVENT
BEGIN:VEVENT
DTSTART;TZID=America/Detroit:20260824T150000
DTEND;TZID=America/Detroit:20260824T190000
DTSTAMP:20260421T101449
CREATED:20260408T143251Z
LAST-MODIFIED:20260408T143251Z
UID:10000337-1787583600-1787598000@presentpillars.org
SUMMARY:Man Cave Monday
DESCRIPTION:Man Cave Monday is a space for men to connect\, grow\, and have real conversations. Each week\, we focus on topics like fatherhood\, personal growth\, leadership\, and mental wellness. \nJoin us and be part of the growth.
URL:https://presentpillars.org/event/man-cave-monday/2026-08-24/
LOCATION:Pillar Center\, 315 East Main St\, Benton Harbor\, MI\, 49022\, United States
END:VEVENT
BEGIN:VEVENT
DTSTART;TZID=America/Detroit:20260831T150000
DTEND;TZID=America/Detroit:20260831T190000
DTSTAMP:20260421T101449
CREATED:20260408T143251Z
LAST-MODIFIED:20260408T143251Z
UID:10000338-1788188400-1788202800@presentpillars.org
SUMMARY:Man Cave Monday
DESCRIPTION:Man Cave Monday is a space for men to connect\, grow\, and have real conversations. Each week\, we focus on topics like fatherhood\, personal growth\, leadership\, and mental wellness. \nJoin us and be part of the growth.
URL:https://presentpillars.org/event/man-cave-monday/2026-08-31/
LOCATION:Pillar Center\, 315 East Main St\, Benton Harbor\, MI\, 49022\, United States
END:VEVENT
BEGIN:VEVENT
DTSTART;TZID=America/Detroit:20260907T150000
DTEND;TZID=America/Detroit:20260907T190000
DTSTAMP:20260421T101449
CREATED:20260408T143251Z
LAST-MODIFIED:20260408T143251Z
UID:10000339-1788793200-1788807600@presentpillars.org
SUMMARY:Man Cave Monday
DESCRIPTION:Man Cave Monday is a space for men to connect\, grow\, and have real conversations. Each week\, we focus on topics like fatherhood\, personal growth\, leadership\, and mental wellness. \nJoin us and be part of the growth.
URL:https://presentpillars.org/event/man-cave-monday/2026-09-07/
LOCATION:Pillar Center\, 315 East Main St\, Benton Harbor\, MI\, 49022\, United States
END:VEVENT
BEGIN:VEVENT
DTSTART;TZID=America/Detroit:20260914T150000
DTEND;TZID=America/Detroit:20260914T190000
DTSTAMP:20260421T101449
CREATED:20260408T143251Z
LAST-MODIFIED:20260408T143251Z
UID:10000340-1789398000-1789412400@presentpillars.org
SUMMARY:Man Cave Monday
DESCRIPTION:Man Cave Monday is a space for men to connect\, grow\, and have real conversations. Each week\, we focus on topics like fatherhood\, personal growth\, leadership\, and mental wellness. \nJoin us and be part of the growth.
URL:https://presentpillars.org/event/man-cave-monday/2026-09-14/
LOCATION:Pillar Center\, 315 East Main St\, Benton Harbor\, MI\, 49022\, United States
END:VEVENT
BEGIN:VEVENT
DTSTART;TZID=America/Detroit:20260921T150000
DTEND;TZID=America/Detroit:20260921T190000
DTSTAMP:20260421T101449
CREATED:20260408T143251Z
LAST-MODIFIED:20260408T143251Z
UID:10000341-1790002800-1790017200@presentpillars.org
SUMMARY:Man Cave Monday
DESCRIPTION:Man Cave Monday is a space for men to connect\, grow\, and have real conversations. Each week\, we focus on topics like fatherhood\, personal growth\, leadership\, and mental wellness. \nJoin us and be part of the growth.
URL:https://presentpillars.org/event/man-cave-monday/2026-09-21/
LOCATION:Pillar Center\, 315 East Main St\, Benton Harbor\, MI\, 49022\, United States
END:VEVENT
BEGIN:VEVENT
DTSTART;TZID=America/Detroit:20260928T150000
DTEND;TZID=America/Detroit:20260928T190000
DTSTAMP:20260421T101449
CREATED:20260408T143251Z
LAST-MODIFIED:20260408T143251Z
UID:10000342-1790607600-1790622000@presentpillars.org
SUMMARY:Man Cave Monday
DESCRIPTION:Man Cave Monday is a space for men to connect\, grow\, and have real conversations. Each week\, we focus on topics like fatherhood\, personal growth\, leadership\, and mental wellness. \nJoin us and be part of the growth.
URL:https://presentpillars.org/event/man-cave-monday/2026-09-28/
LOCATION:Pillar Center\, 315 East Main St\, Benton Harbor\, MI\, 49022\, United States
END:VEVENT
BEGIN:VEVENT
DTSTART;TZID=America/Detroit:20261005T150000
DTEND;TZID=America/Detroit:20261005T190000
DTSTAMP:20260421T101449
CREATED:20260408T143251Z
LAST-MODIFIED:20260408T143251Z
UID:10000343-1791212400-1791226800@presentpillars.org
SUMMARY:Man Cave Monday
DESCRIPTION:Man Cave Monday is a space for men to connect\, grow\, and have real conversations. Each week\, we focus on topics like fatherhood\, personal growth\, leadership\, and mental wellness. \nJoin us and be part of the growth.
URL:https://presentpillars.org/event/man-cave-monday/2026-10-05/
LOCATION:Pillar Center\, 315 East Main St\, Benton Harbor\, MI\, 49022\, United States
END:VEVENT
BEGIN:VEVENT
DTSTART;TZID=America/Detroit:20261012T150000
DTEND;TZID=America/Detroit:20261012T190000
DTSTAMP:20260421T101449
CREATED:20260408T143251Z
LAST-MODIFIED:20260408T143251Z
UID:10000344-1791817200-1791831600@presentpillars.org
SUMMARY:Man Cave Monday
DESCRIPTION:Man Cave Monday is a space for men to connect\, grow\, and have real conversations. Each week\, we focus on topics like fatherhood\, personal growth\, leadership\, and mental wellness. \nJoin us and be part of the growth.
URL:https://presentpillars.org/event/man-cave-monday/2026-10-12/
LOCATION:Pillar Center\, 315 East Main St\, Benton Harbor\, MI\, 49022\, United States
END:VEVENT
BEGIN:VEVENT
DTSTART;TZID=America/Detroit:20261019T150000
DTEND;TZID=America/Detroit:20261019T190000
DTSTAMP:20260421T101449
CREATED:20260408T143251Z
LAST-MODIFIED:20260408T143251Z
UID:10000345-1792422000-1792436400@presentpillars.org
SUMMARY:Man Cave Monday
DESCRIPTION:Man Cave Monday is a space for men to connect\, grow\, and have real conversations. Each week\, we focus on topics like fatherhood\, personal growth\, leadership\, and mental wellness. \nJoin us and be part of the growth.
URL:https://presentpillars.org/event/man-cave-monday/2026-10-19/
LOCATION:Pillar Center\, 315 East Main St\, Benton Harbor\, MI\, 49022\, United States
END:VEVENT
BEGIN:VEVENT
DTSTART;TZID=America/Detroit:20261026T150000
DTEND;TZID=America/Detroit:20261026T190000
DTSTAMP:20260421T101449
CREATED:20260408T143251Z
LAST-MODIFIED:20260408T143251Z
UID:10000346-1793026800-1793041200@presentpillars.org
SUMMARY:Man Cave Monday
DESCRIPTION:Man Cave Monday is a space for men to connect\, grow\, and have real conversations. Each week\, we focus on topics like fatherhood\, personal growth\, leadership\, and mental wellness. \nJoin us and be part of the growth.
URL:https://presentpillars.org/event/man-cave-monday/2026-10-26/
LOCATION:Pillar Center\, 315 East Main St\, Benton Harbor\, MI\, 49022\, United States
END:VEVENT
BEGIN:VEVENT
DTSTART;TZID=America/Detroit:20261102T150000
DTEND;TZID=America/Detroit:20261102T190000
DTSTAMP:20260421T101449
CREATED:20260408T143251Z
LAST-MODIFIED:20260408T143251Z
UID:10000347-1793631600-1793646000@presentpillars.org
SUMMARY:Man Cave Monday
DESCRIPTION:Man Cave Monday is a space for men to connect\, grow\, and have real conversations. Each week\, we focus on topics like fatherhood\, personal growth\, leadership\, and mental wellness. \nJoin us and be part of the growth.
URL:https://presentpillars.org/event/man-cave-monday/2026-11-02/
LOCATION:Pillar Center\, 315 East Main St\, Benton Harbor\, MI\, 49022\, United States
END:VEVENT
BEGIN:VEVENT
DTSTART;TZID=America/Detroit:20261107T180000
DTEND;TZID=America/Detroit:20261107T220000
DTSTAMP:20260421T101449
CREATED:20260122T154644Z
LAST-MODIFIED:20260204T164236Z
UID:10000308-1794074400-1794088800@presentpillars.org
SUMMARY:2026 Pillar Awards
DESCRIPTION:A celebration honoring outstanding fathers\, mentors\, and community leaders who exemplify strength\, service\, and positive impact. The Pillar Awards blends elegance and soul with recognition\, dinner\, entertainment\, and a ceremony celebrating those who uplift families and communities. Proceeds help fund Present Pillars’ mission and men’s health programs.
URL:https://presentpillars.org/event/2026-pillar-awards/
LOCATION:Four Winds Casino South Bend\, 3000 Prairie Ave\, South Bend\, Indiana\, 46614
END:VEVENT
BEGIN:VEVENT
DTSTART;TZID=America/Detroit:20261109T150000
DTEND;TZID=America/Detroit:20261109T190000
DTSTAMP:20260421T101449
CREATED:20260408T143251Z
LAST-MODIFIED:20260408T143251Z
UID:10000348-1794236400-1794250800@presentpillars.org
SUMMARY:Man Cave Monday
DESCRIPTION:Man Cave Monday is a space for men to connect\, grow\, and have real conversations. Each week\, we focus on topics like fatherhood\, personal growth\, leadership\, and mental wellness. \nJoin us and be part of the growth.
URL:https://presentpillars.org/event/man-cave-monday/2026-11-09/
LOCATION:Pillar Center\, 315 East Main St\, Benton Harbor\, MI\, 49022\, United States
END:VEVENT
BEGIN:VEVENT
DTSTART;TZID=America/Detroit:20261116T150000
DTEND;TZID=America/Detroit:20261116T190000
DTSTAMP:20260421T101449
CREATED:20260408T143251Z
LAST-MODIFIED:20260408T143251Z
UID:10000349-1794841200-1794855600@presentpillars.org
SUMMARY:Man Cave Monday
DESCRIPTION:Man Cave Monday is a space for men to connect\, grow\, and have real conversations. Each week\, we focus on topics like fatherhood\, personal growth\, leadership\, and mental wellness. \nJoin us and be part of the growth.
URL:https://presentpillars.org/event/man-cave-monday/2026-11-16/
LOCATION:Pillar Center\, 315 East Main St\, Benton Harbor\, MI\, 49022\, United States
END:VEVENT
BEGIN:VEVENT
DTSTART;TZID=America/Detroit:20261123T150000
DTEND;TZID=America/Detroit:20261123T190000
DTSTAMP:20260421T101449
CREATED:20260408T143251Z
LAST-MODIFIED:20260408T143251Z
UID:10000350-1795446000-1795460400@presentpillars.org
SUMMARY:Man Cave Monday
DESCRIPTION:Man Cave Monday is a space for men to connect\, grow\, and have real conversations. Each week\, we focus on topics like fatherhood\, personal growth\, leadership\, and mental wellness. \nJoin us and be part of the growth.
URL:https://presentpillars.org/event/man-cave-monday/2026-11-23/
LOCATION:Pillar Center\, 315 East Main St\, Benton Harbor\, MI\, 49022\, United States
END:VEVENT
BEGIN:VEVENT
DTSTART;TZID=America/Detroit:20261130T150000
DTEND;TZID=America/Detroit:20261130T190000
DTSTAMP:20260421T101449
CREATED:20260408T143251Z
LAST-MODIFIED:20260408T143251Z
UID:10000351-1796050800-1796065200@presentpillars.org
SUMMARY:Man Cave Monday
DESCRIPTION:Man Cave Monday is a space for men to connect\, grow\, and have real conversations. Each week\, we focus on topics like fatherhood\, personal growth\, leadership\, and mental wellness. \nJoin us and be part of the growth.
URL:https://presentpillars.org/event/man-cave-monday/2026-11-30/
LOCATION:Pillar Center\, 315 East Main St\, Benton Harbor\, MI\, 49022\, United States
END:VEVENT
BEGIN:VEVENT
DTSTART;TZID=America/Detroit:20261207T150000
DTEND;TZID=America/Detroit:20261207T190000
DTSTAMP:20260421T101449
CREATED:20260408T143251Z
LAST-MODIFIED:20260408T143251Z
UID:10000352-1796655600-1796670000@presentpillars.org
SUMMARY:Man Cave Monday
DESCRIPTION:Man Cave Monday is a space for men to connect\, grow\, and have real conversations. Each week\, we focus on topics like fatherhood\, personal growth\, leadership\, and mental wellness. \nJoin us and be part of the growth.
URL:https://presentpillars.org/event/man-cave-monday/2026-12-07/
LOCATION:Pillar Center\, 315 East Main St\, Benton Harbor\, MI\, 49022\, United States
END:VEVENT
BEGIN:VEVENT
DTSTART;TZID=America/Detroit:20261214T150000
DTEND;TZID=America/Detroit:20261214T190000
DTSTAMP:20260421T101449
CREATED:20260408T143251Z
LAST-MODIFIED:20260408T143251Z
UID:10000353-1797260400-1797274800@presentpillars.org
SUMMARY:Man Cave Monday
DESCRIPTION:Man Cave Monday is a space for men to connect\, grow\, and have real conversations. Each week\, we focus on topics like fatherhood\, personal growth\, leadership\, and mental wellness. \nJoin us and be part of the growth.
URL:https://presentpillars.org/event/man-cave-monday/2026-12-14/
LOCATION:Pillar Center\, 315 East Main St\, Benton Harbor\, MI\, 49022\, United States
END:VEVENT
BEGIN:VEVENT
DTSTART;TZID=America/Detroit:20261221T150000
DTEND;TZID=America/Detroit:20261221T190000
DTSTAMP:20260421T101449
CREATED:20260408T143251Z
LAST-MODIFIED:20260408T143251Z
UID:10000354-1797865200-1797879600@presentpillars.org
SUMMARY:Man Cave Monday
DESCRIPTION:Man Cave Monday is a space for men to connect\, grow\, and have real conversations. Each week\, we focus on topics like fatherhood\, personal growth\, leadership\, and mental wellness. \nJoin us and be part of the growth.
URL:https://presentpillars.org/event/man-cave-monday/2026-12-21/
LOCATION:Pillar Center\, 315 East Main St\, Benton Harbor\, MI\, 49022\, United States
END:VEVENT
END:VCALENDAR