BEGIN:VCALENDAR
VERSION:2.0
PRODID:-//Present Pillars - ECPv6.15.17.1//NONSGML v1.0//EN
CALSCALE:GREGORIAN
METHOD:PUBLISH
X-ORIGINAL-URL:https://presentpillars.org
X-WR-CALDESC:Events for Present Pillars
REFRESH-INTERVAL;VALUE=DURATION:PT1H
X-Robots-Tag:noindex
X-PUBLISHED-TTL:PT1H
BEGIN:VTIMEZONE
TZID:America/Detroit
BEGIN:DAYLIGHT
TZOFFSETFROM:-0500
TZOFFSETTO:-0400
TZNAME:EDT
DTSTART:20290311T070000
END:DAYLIGHT
BEGIN:STANDARD
TZOFFSETFROM:-0400
TZOFFSETTO:-0500
TZNAME:EST
DTSTART:20291104T060000
END:STANDARD
BEGIN:DAYLIGHT
TZOFFSETFROM:-0500
TZOFFSETTO:-0400
TZNAME:EDT
DTSTART:20300310T070000
END:DAYLIGHT
BEGIN:STANDARD
TZOFFSETFROM:-0400
TZOFFSETTO:-0500
TZNAME:EST
DTSTART:20301103T060000
END:STANDARD
BEGIN:DAYLIGHT
TZOFFSETFROM:-0500
TZOFFSETTO:-0400
TZNAME:EDT
DTSTART:20310309T070000
END:DAYLIGHT
BEGIN:STANDARD
TZOFFSETFROM:-0400
TZOFFSETTO:-0500
TZNAME:EST
DTSTART:20311102T060000
END:STANDARD
END:VTIMEZONE
BEGIN:VEVENT
DTSTART;TZID=America/Detroit:20300204T150000
DTEND;TZID=America/Detroit:20300204T190000
DTSTAMP:20260422T182013
CREATED:20260408T143251Z
LAST-MODIFIED:20260408T143251Z
UID:10000517-1896447600-1896462000@presentpillars.org
SUMMARY:Man Cave Monday
DESCRIPTION:Man Cave Monday is a space for men to connect\, grow\, and have real conversations. Each week\, we focus on topics like fatherhood\, personal growth\, leadership\, and mental wellness. \nJoin us and be part of the growth.
URL:https://presentpillars.org/event/man-cave-monday/2030-02-04/
LOCATION:Pillar Center\, 315 East Main St\, Benton Harbor\, MI\, 49022\, United States
END:VEVENT
BEGIN:VEVENT
DTSTART;TZID=America/Detroit:20300211T150000
DTEND;TZID=America/Detroit:20300211T190000
DTSTAMP:20260422T182013
CREATED:20260408T143251Z
LAST-MODIFIED:20260408T143251Z
UID:10000518-1897052400-1897066800@presentpillars.org
SUMMARY:Man Cave Monday
DESCRIPTION:Man Cave Monday is a space for men to connect\, grow\, and have real conversations. Each week\, we focus on topics like fatherhood\, personal growth\, leadership\, and mental wellness. \nJoin us and be part of the growth.
URL:https://presentpillars.org/event/man-cave-monday/2030-02-11/
LOCATION:Pillar Center\, 315 East Main St\, Benton Harbor\, MI\, 49022\, United States
END:VEVENT
BEGIN:VEVENT
DTSTART;TZID=America/Detroit:20300218T150000
DTEND;TZID=America/Detroit:20300218T190000
DTSTAMP:20260422T182013
CREATED:20260408T143251Z
LAST-MODIFIED:20260408T143251Z
UID:10000519-1897657200-1897671600@presentpillars.org
SUMMARY:Man Cave Monday
DESCRIPTION:Man Cave Monday is a space for men to connect\, grow\, and have real conversations. Each week\, we focus on topics like fatherhood\, personal growth\, leadership\, and mental wellness. \nJoin us and be part of the growth.
URL:https://presentpillars.org/event/man-cave-monday/2030-02-18/
LOCATION:Pillar Center\, 315 East Main St\, Benton Harbor\, MI\, 49022\, United States
END:VEVENT
BEGIN:VEVENT
DTSTART;TZID=America/Detroit:20300225T150000
DTEND;TZID=America/Detroit:20300225T190000
DTSTAMP:20260422T182013
CREATED:20260408T143251Z
LAST-MODIFIED:20260408T143251Z
UID:10000520-1898262000-1898276400@presentpillars.org
SUMMARY:Man Cave Monday
DESCRIPTION:Man Cave Monday is a space for men to connect\, grow\, and have real conversations. Each week\, we focus on topics like fatherhood\, personal growth\, leadership\, and mental wellness. \nJoin us and be part of the growth.
URL:https://presentpillars.org/event/man-cave-monday/2030-02-25/
LOCATION:Pillar Center\, 315 East Main St\, Benton Harbor\, MI\, 49022\, United States
END:VEVENT
BEGIN:VEVENT
DTSTART;TZID=America/Detroit:20300304T150000
DTEND;TZID=America/Detroit:20300304T190000
DTSTAMP:20260422T182013
CREATED:20260408T143251Z
LAST-MODIFIED:20260408T143251Z
UID:10000521-1898866800-1898881200@presentpillars.org
SUMMARY:Man Cave Monday
DESCRIPTION:Man Cave Monday is a space for men to connect\, grow\, and have real conversations. Each week\, we focus on topics like fatherhood\, personal growth\, leadership\, and mental wellness. \nJoin us and be part of the growth.
URL:https://presentpillars.org/event/man-cave-monday/2030-03-04/
LOCATION:Pillar Center\, 315 East Main St\, Benton Harbor\, MI\, 49022\, United States
END:VEVENT
BEGIN:VEVENT
DTSTART;TZID=America/Detroit:20300311T150000
DTEND;TZID=America/Detroit:20300311T190000
DTSTAMP:20260422T182013
CREATED:20260408T143251Z
LAST-MODIFIED:20260408T143251Z
UID:10000522-1899471600-1899486000@presentpillars.org
SUMMARY:Man Cave Monday
DESCRIPTION:Man Cave Monday is a space for men to connect\, grow\, and have real conversations. Each week\, we focus on topics like fatherhood\, personal growth\, leadership\, and mental wellness. \nJoin us and be part of the growth.
URL:https://presentpillars.org/event/man-cave-monday/2030-03-11/
LOCATION:Pillar Center\, 315 East Main St\, Benton Harbor\, MI\, 49022\, United States
END:VEVENT
BEGIN:VEVENT
DTSTART;TZID=America/Detroit:20300318T150000
DTEND;TZID=America/Detroit:20300318T190000
DTSTAMP:20260422T182013
CREATED:20260408T143251Z
LAST-MODIFIED:20260408T143251Z
UID:10000523-1900076400-1900090800@presentpillars.org
SUMMARY:Man Cave Monday
DESCRIPTION:Man Cave Monday is a space for men to connect\, grow\, and have real conversations. Each week\, we focus on topics like fatherhood\, personal growth\, leadership\, and mental wellness. \nJoin us and be part of the growth.
URL:https://presentpillars.org/event/man-cave-monday/2030-03-18/
LOCATION:Pillar Center\, 315 East Main St\, Benton Harbor\, MI\, 49022\, United States
END:VEVENT
BEGIN:VEVENT
DTSTART;TZID=America/Detroit:20300325T150000
DTEND;TZID=America/Detroit:20300325T190000
DTSTAMP:20260422T182013
CREATED:20260408T143251Z
LAST-MODIFIED:20260408T143251Z
UID:10000524-1900681200-1900695600@presentpillars.org
SUMMARY:Man Cave Monday
DESCRIPTION:Man Cave Monday is a space for men to connect\, grow\, and have real conversations. Each week\, we focus on topics like fatherhood\, personal growth\, leadership\, and mental wellness. \nJoin us and be part of the growth.
URL:https://presentpillars.org/event/man-cave-monday/2030-03-25/
LOCATION:Pillar Center\, 315 East Main St\, Benton Harbor\, MI\, 49022\, United States
END:VEVENT
BEGIN:VEVENT
DTSTART;TZID=America/Detroit:20300401T150000
DTEND;TZID=America/Detroit:20300401T190000
DTSTAMP:20260422T182013
CREATED:20260408T143251Z
LAST-MODIFIED:20260408T143251Z
UID:10000525-1901286000-1901300400@presentpillars.org
SUMMARY:Man Cave Monday
DESCRIPTION:Man Cave Monday is a space for men to connect\, grow\, and have real conversations. Each week\, we focus on topics like fatherhood\, personal growth\, leadership\, and mental wellness. \nJoin us and be part of the growth.
URL:https://presentpillars.org/event/man-cave-monday/2030-04-01/
LOCATION:Pillar Center\, 315 East Main St\, Benton Harbor\, MI\, 49022\, United States
END:VEVENT
BEGIN:VEVENT
DTSTART;TZID=America/Detroit:20300408T150000
DTEND;TZID=America/Detroit:20300408T190000
DTSTAMP:20260422T182013
CREATED:20260408T143251Z
LAST-MODIFIED:20260408T143251Z
UID:10000526-1901890800-1901905200@presentpillars.org
SUMMARY:Man Cave Monday
DESCRIPTION:Man Cave Monday is a space for men to connect\, grow\, and have real conversations. Each week\, we focus on topics like fatherhood\, personal growth\, leadership\, and mental wellness. \nJoin us and be part of the growth.
URL:https://presentpillars.org/event/man-cave-monday/2030-04-08/
LOCATION:Pillar Center\, 315 East Main St\, Benton Harbor\, MI\, 49022\, United States
END:VEVENT
BEGIN:VEVENT
DTSTART;TZID=America/Detroit:20300415T150000
DTEND;TZID=America/Detroit:20300415T190000
DTSTAMP:20260422T182013
CREATED:20260408T143251Z
LAST-MODIFIED:20260408T143251Z
UID:10000527-1902495600-1902510000@presentpillars.org
SUMMARY:Man Cave Monday
DESCRIPTION:Man Cave Monday is a space for men to connect\, grow\, and have real conversations. Each week\, we focus on topics like fatherhood\, personal growth\, leadership\, and mental wellness. \nJoin us and be part of the growth.
URL:https://presentpillars.org/event/man-cave-monday/2030-04-15/
LOCATION:Pillar Center\, 315 East Main St\, Benton Harbor\, MI\, 49022\, United States
END:VEVENT
BEGIN:VEVENT
DTSTART;TZID=America/Detroit:20300422T150000
DTEND;TZID=America/Detroit:20300422T190000
DTSTAMP:20260422T182013
CREATED:20260408T143251Z
LAST-MODIFIED:20260408T143251Z
UID:10000528-1903100400-1903114800@presentpillars.org
SUMMARY:Man Cave Monday
DESCRIPTION:Man Cave Monday is a space for men to connect\, grow\, and have real conversations. Each week\, we focus on topics like fatherhood\, personal growth\, leadership\, and mental wellness. \nJoin us and be part of the growth.
URL:https://presentpillars.org/event/man-cave-monday/2030-04-22/
LOCATION:Pillar Center\, 315 East Main St\, Benton Harbor\, MI\, 49022\, United States
END:VEVENT
BEGIN:VEVENT
DTSTART;TZID=America/Detroit:20300429T150000
DTEND;TZID=America/Detroit:20300429T190000
DTSTAMP:20260422T182013
CREATED:20260408T143251Z
LAST-MODIFIED:20260408T143251Z
UID:10000529-1903705200-1903719600@presentpillars.org
SUMMARY:Man Cave Monday
DESCRIPTION:Man Cave Monday is a space for men to connect\, grow\, and have real conversations. Each week\, we focus on topics like fatherhood\, personal growth\, leadership\, and mental wellness. \nJoin us and be part of the growth.
URL:https://presentpillars.org/event/man-cave-monday/2030-04-29/
LOCATION:Pillar Center\, 315 East Main St\, Benton Harbor\, MI\, 49022\, United States
END:VEVENT
BEGIN:VEVENT
DTSTART;TZID=America/Detroit:20300506T150000
DTEND;TZID=America/Detroit:20300506T190000
DTSTAMP:20260422T182013
CREATED:20260408T143251Z
LAST-MODIFIED:20260408T143251Z
UID:10000530-1904310000-1904324400@presentpillars.org
SUMMARY:Man Cave Monday
DESCRIPTION:Man Cave Monday is a space for men to connect\, grow\, and have real conversations. Each week\, we focus on topics like fatherhood\, personal growth\, leadership\, and mental wellness. \nJoin us and be part of the growth.
URL:https://presentpillars.org/event/man-cave-monday/2030-05-06/
LOCATION:Pillar Center\, 315 East Main St\, Benton Harbor\, MI\, 49022\, United States
END:VEVENT
BEGIN:VEVENT
DTSTART;TZID=America/Detroit:20300513T150000
DTEND;TZID=America/Detroit:20300513T190000
DTSTAMP:20260422T182013
CREATED:20260408T143251Z
LAST-MODIFIED:20260408T143251Z
UID:10000531-1904914800-1904929200@presentpillars.org
SUMMARY:Man Cave Monday
DESCRIPTION:Man Cave Monday is a space for men to connect\, grow\, and have real conversations. Each week\, we focus on topics like fatherhood\, personal growth\, leadership\, and mental wellness. \nJoin us and be part of the growth.
URL:https://presentpillars.org/event/man-cave-monday/2030-05-13/
LOCATION:Pillar Center\, 315 East Main St\, Benton Harbor\, MI\, 49022\, United States
END:VEVENT
BEGIN:VEVENT
DTSTART;TZID=America/Detroit:20300520T150000
DTEND;TZID=America/Detroit:20300520T190000
DTSTAMP:20260422T182013
CREATED:20260408T143251Z
LAST-MODIFIED:20260408T143251Z
UID:10000532-1905519600-1905534000@presentpillars.org
SUMMARY:Man Cave Monday
DESCRIPTION:Man Cave Monday is a space for men to connect\, grow\, and have real conversations. Each week\, we focus on topics like fatherhood\, personal growth\, leadership\, and mental wellness. \nJoin us and be part of the growth.
URL:https://presentpillars.org/event/man-cave-monday/2030-05-20/
LOCATION:Pillar Center\, 315 East Main St\, Benton Harbor\, MI\, 49022\, United States
END:VEVENT
BEGIN:VEVENT
DTSTART;TZID=America/Detroit:20300527T150000
DTEND;TZID=America/Detroit:20300527T190000
DTSTAMP:20260422T182013
CREATED:20260408T143251Z
LAST-MODIFIED:20260408T143251Z
UID:10000533-1906124400-1906138800@presentpillars.org
SUMMARY:Man Cave Monday
DESCRIPTION:Man Cave Monday is a space for men to connect\, grow\, and have real conversations. Each week\, we focus on topics like fatherhood\, personal growth\, leadership\, and mental wellness. \nJoin us and be part of the growth.
URL:https://presentpillars.org/event/man-cave-monday/2030-05-27/
LOCATION:Pillar Center\, 315 East Main St\, Benton Harbor\, MI\, 49022\, United States
END:VEVENT
BEGIN:VEVENT
DTSTART;TZID=America/Detroit:20300603T150000
DTEND;TZID=America/Detroit:20300603T190000
DTSTAMP:20260422T182013
CREATED:20260408T143251Z
LAST-MODIFIED:20260408T143251Z
UID:10000534-1906729200-1906743600@presentpillars.org
SUMMARY:Man Cave Monday
DESCRIPTION:Man Cave Monday is a space for men to connect\, grow\, and have real conversations. Each week\, we focus on topics like fatherhood\, personal growth\, leadership\, and mental wellness. \nJoin us and be part of the growth.
URL:https://presentpillars.org/event/man-cave-monday/2030-06-03/
LOCATION:Pillar Center\, 315 East Main St\, Benton Harbor\, MI\, 49022\, United States
END:VEVENT
BEGIN:VEVENT
DTSTART;TZID=America/Detroit:20300610T150000
DTEND;TZID=America/Detroit:20300610T190000
DTSTAMP:20260422T182013
CREATED:20260408T143251Z
LAST-MODIFIED:20260408T143251Z
UID:10000535-1907334000-1907348400@presentpillars.org
SUMMARY:Man Cave Monday
DESCRIPTION:Man Cave Monday is a space for men to connect\, grow\, and have real conversations. Each week\, we focus on topics like fatherhood\, personal growth\, leadership\, and mental wellness. \nJoin us and be part of the growth.
URL:https://presentpillars.org/event/man-cave-monday/2030-06-10/
LOCATION:Pillar Center\, 315 East Main St\, Benton Harbor\, MI\, 49022\, United States
END:VEVENT
BEGIN:VEVENT
DTSTART;TZID=America/Detroit:20300617T150000
DTEND;TZID=America/Detroit:20300617T190000
DTSTAMP:20260422T182013
CREATED:20260408T143251Z
LAST-MODIFIED:20260408T143251Z
UID:10000536-1907938800-1907953200@presentpillars.org
SUMMARY:Man Cave Monday
DESCRIPTION:Man Cave Monday is a space for men to connect\, grow\, and have real conversations. Each week\, we focus on topics like fatherhood\, personal growth\, leadership\, and mental wellness. \nJoin us and be part of the growth.
URL:https://presentpillars.org/event/man-cave-monday/2030-06-17/
LOCATION:Pillar Center\, 315 East Main St\, Benton Harbor\, MI\, 49022\, United States
END:VEVENT
BEGIN:VEVENT
DTSTART;TZID=America/Detroit:20300624T150000
DTEND;TZID=America/Detroit:20300624T190000
DTSTAMP:20260422T182013
CREATED:20260408T143251Z
LAST-MODIFIED:20260408T143251Z
UID:10000537-1908543600-1908558000@presentpillars.org
SUMMARY:Man Cave Monday
DESCRIPTION:Man Cave Monday is a space for men to connect\, grow\, and have real conversations. Each week\, we focus on topics like fatherhood\, personal growth\, leadership\, and mental wellness. \nJoin us and be part of the growth.
URL:https://presentpillars.org/event/man-cave-monday/2030-06-24/
LOCATION:Pillar Center\, 315 East Main St\, Benton Harbor\, MI\, 49022\, United States
END:VEVENT
BEGIN:VEVENT
DTSTART;TZID=America/Detroit:20300701T150000
DTEND;TZID=America/Detroit:20300701T190000
DTSTAMP:20260422T182013
CREATED:20260408T143251Z
LAST-MODIFIED:20260408T143251Z
UID:10000538-1909148400-1909162800@presentpillars.org
SUMMARY:Man Cave Monday
DESCRIPTION:Man Cave Monday is a space for men to connect\, grow\, and have real conversations. Each week\, we focus on topics like fatherhood\, personal growth\, leadership\, and mental wellness. \nJoin us and be part of the growth.
URL:https://presentpillars.org/event/man-cave-monday/2030-07-01/
LOCATION:Pillar Center\, 315 East Main St\, Benton Harbor\, MI\, 49022\, United States
END:VEVENT
BEGIN:VEVENT
DTSTART;TZID=America/Detroit:20300708T150000
DTEND;TZID=America/Detroit:20300708T190000
DTSTAMP:20260422T182013
CREATED:20260408T143251Z
LAST-MODIFIED:20260408T143251Z
UID:10000539-1909753200-1909767600@presentpillars.org
SUMMARY:Man Cave Monday
DESCRIPTION:Man Cave Monday is a space for men to connect\, grow\, and have real conversations. Each week\, we focus on topics like fatherhood\, personal growth\, leadership\, and mental wellness. \nJoin us and be part of the growth.
URL:https://presentpillars.org/event/man-cave-monday/2030-07-08/
LOCATION:Pillar Center\, 315 East Main St\, Benton Harbor\, MI\, 49022\, United States
END:VEVENT
BEGIN:VEVENT
DTSTART;TZID=America/Detroit:20300715T150000
DTEND;TZID=America/Detroit:20300715T190000
DTSTAMP:20260422T182013
CREATED:20260408T143251Z
LAST-MODIFIED:20260408T143251Z
UID:10000540-1910358000-1910372400@presentpillars.org
SUMMARY:Man Cave Monday
DESCRIPTION:Man Cave Monday is a space for men to connect\, grow\, and have real conversations. Each week\, we focus on topics like fatherhood\, personal growth\, leadership\, and mental wellness. \nJoin us and be part of the growth.
URL:https://presentpillars.org/event/man-cave-monday/2030-07-15/
LOCATION:Pillar Center\, 315 East Main St\, Benton Harbor\, MI\, 49022\, United States
END:VEVENT
BEGIN:VEVENT
DTSTART;TZID=America/Detroit:20300722T150000
DTEND;TZID=America/Detroit:20300722T190000
DTSTAMP:20260422T182013
CREATED:20260408T143251Z
LAST-MODIFIED:20260408T143251Z
UID:10000541-1910962800-1910977200@presentpillars.org
SUMMARY:Man Cave Monday
DESCRIPTION:Man Cave Monday is a space for men to connect\, grow\, and have real conversations. Each week\, we focus on topics like fatherhood\, personal growth\, leadership\, and mental wellness. \nJoin us and be part of the growth.
URL:https://presentpillars.org/event/man-cave-monday/2030-07-22/
LOCATION:Pillar Center\, 315 East Main St\, Benton Harbor\, MI\, 49022\, United States
END:VEVENT
BEGIN:VEVENT
DTSTART;TZID=America/Detroit:20300729T150000
DTEND;TZID=America/Detroit:20300729T190000
DTSTAMP:20260422T182013
CREATED:20260408T143251Z
LAST-MODIFIED:20260408T143251Z
UID:10000542-1911567600-1911582000@presentpillars.org
SUMMARY:Man Cave Monday
DESCRIPTION:Man Cave Monday is a space for men to connect\, grow\, and have real conversations. Each week\, we focus on topics like fatherhood\, personal growth\, leadership\, and mental wellness. \nJoin us and be part of the growth.
URL:https://presentpillars.org/event/man-cave-monday/2030-07-29/
LOCATION:Pillar Center\, 315 East Main St\, Benton Harbor\, MI\, 49022\, United States
END:VEVENT
BEGIN:VEVENT
DTSTART;TZID=America/Detroit:20300805T150000
DTEND;TZID=America/Detroit:20300805T190000
DTSTAMP:20260422T182013
CREATED:20260408T143251Z
LAST-MODIFIED:20260408T143251Z
UID:10000543-1912172400-1912186800@presentpillars.org
SUMMARY:Man Cave Monday
DESCRIPTION:Man Cave Monday is a space for men to connect\, grow\, and have real conversations. Each week\, we focus on topics like fatherhood\, personal growth\, leadership\, and mental wellness. \nJoin us and be part of the growth.
URL:https://presentpillars.org/event/man-cave-monday/2030-08-05/
LOCATION:Pillar Center\, 315 East Main St\, Benton Harbor\, MI\, 49022\, United States
END:VEVENT
BEGIN:VEVENT
DTSTART;TZID=America/Detroit:20300812T150000
DTEND;TZID=America/Detroit:20300812T190000
DTSTAMP:20260422T182013
CREATED:20260408T143251Z
LAST-MODIFIED:20260408T143251Z
UID:10000544-1912777200-1912791600@presentpillars.org
SUMMARY:Man Cave Monday
DESCRIPTION:Man Cave Monday is a space for men to connect\, grow\, and have real conversations. Each week\, we focus on topics like fatherhood\, personal growth\, leadership\, and mental wellness. \nJoin us and be part of the growth.
URL:https://presentpillars.org/event/man-cave-monday/2030-08-12/
LOCATION:Pillar Center\, 315 East Main St\, Benton Harbor\, MI\, 49022\, United States
END:VEVENT
BEGIN:VEVENT
DTSTART;TZID=America/Detroit:20300819T150000
DTEND;TZID=America/Detroit:20300819T190000
DTSTAMP:20260422T182013
CREATED:20260408T143251Z
LAST-MODIFIED:20260408T143251Z
UID:10000545-1913382000-1913396400@presentpillars.org
SUMMARY:Man Cave Monday
DESCRIPTION:Man Cave Monday is a space for men to connect\, grow\, and have real conversations. Each week\, we focus on topics like fatherhood\, personal growth\, leadership\, and mental wellness. \nJoin us and be part of the growth.
URL:https://presentpillars.org/event/man-cave-monday/2030-08-19/
LOCATION:Pillar Center\, 315 East Main St\, Benton Harbor\, MI\, 49022\, United States
END:VEVENT
BEGIN:VEVENT
DTSTART;TZID=America/Detroit:20300826T150000
DTEND;TZID=America/Detroit:20300826T190000
DTSTAMP:20260422T182013
CREATED:20260408T143251Z
LAST-MODIFIED:20260408T143251Z
UID:10000546-1913986800-1914001200@presentpillars.org
SUMMARY:Man Cave Monday
DESCRIPTION:Man Cave Monday is a space for men to connect\, grow\, and have real conversations. Each week\, we focus on topics like fatherhood\, personal growth\, leadership\, and mental wellness. \nJoin us and be part of the growth.
URL:https://presentpillars.org/event/man-cave-monday/2030-08-26/
LOCATION:Pillar Center\, 315 East Main St\, Benton Harbor\, MI\, 49022\, United States
END:VEVENT
END:VCALENDAR