BEGIN:VCALENDAR
VERSION:2.0
PRODID:-//Present Pillars - ECPv6.15.17.1//NONSGML v1.0//EN
CALSCALE:GREGORIAN
METHOD:PUBLISH
X-WR-CALNAME:Present Pillars
X-ORIGINAL-URL:https://presentpillars.org
X-WR-CALDESC:Events for Present Pillars
REFRESH-INTERVAL;VALUE=DURATION:PT1H
X-Robots-Tag:noindex
X-PUBLISHED-TTL:PT1H
BEGIN:VTIMEZONE
TZID:America/Detroit
BEGIN:DAYLIGHT
TZOFFSETFROM:-0500
TZOFFSETTO:-0400
TZNAME:EDT
DTSTART:20260308T070000
END:DAYLIGHT
BEGIN:STANDARD
TZOFFSETFROM:-0400
TZOFFSETTO:-0500
TZNAME:EST
DTSTART:20261101T060000
END:STANDARD
BEGIN:DAYLIGHT
TZOFFSETFROM:-0500
TZOFFSETTO:-0400
TZNAME:EDT
DTSTART:20270314T070000
END:DAYLIGHT
BEGIN:STANDARD
TZOFFSETFROM:-0400
TZOFFSETTO:-0500
TZNAME:EST
DTSTART:20271107T060000
END:STANDARD
BEGIN:DAYLIGHT
TZOFFSETFROM:-0500
TZOFFSETTO:-0400
TZNAME:EDT
DTSTART:20280312T070000
END:DAYLIGHT
BEGIN:STANDARD
TZOFFSETFROM:-0400
TZOFFSETTO:-0500
TZNAME:EST
DTSTART:20281105T060000
END:STANDARD
END:VTIMEZONE
BEGIN:VEVENT
DTSTART;TZID=America/Detroit:20270524T150000
DTEND;TZID=America/Detroit:20270524T190000
DTSTAMP:20260421T214518
CREATED:20260408T143251Z
LAST-MODIFIED:20260408T143251Z
UID:10000376-1811170800-1811185200@presentpillars.org
SUMMARY:Man Cave Monday
DESCRIPTION:Man Cave Monday is a space for men to connect\, grow\, and have real conversations. Each week\, we focus on topics like fatherhood\, personal growth\, leadership\, and mental wellness. \nJoin us and be part of the growth.
URL:https://presentpillars.org/event/man-cave-monday/2027-05-24/
LOCATION:Pillar Center\, 315 East Main St\, Benton Harbor\, MI\, 49022\, United States
END:VEVENT
BEGIN:VEVENT
DTSTART;TZID=America/Detroit:20270531T150000
DTEND;TZID=America/Detroit:20270531T190000
DTSTAMP:20260421T214518
CREATED:20260408T143251Z
LAST-MODIFIED:20260408T143251Z
UID:10000377-1811775600-1811790000@presentpillars.org
SUMMARY:Man Cave Monday
DESCRIPTION:Man Cave Monday is a space for men to connect\, grow\, and have real conversations. Each week\, we focus on topics like fatherhood\, personal growth\, leadership\, and mental wellness. \nJoin us and be part of the growth.
URL:https://presentpillars.org/event/man-cave-monday/2027-05-31/
LOCATION:Pillar Center\, 315 East Main St\, Benton Harbor\, MI\, 49022\, United States
END:VEVENT
BEGIN:VEVENT
DTSTART;TZID=America/Detroit:20270607T150000
DTEND;TZID=America/Detroit:20270607T190000
DTSTAMP:20260421T214518
CREATED:20260408T143251Z
LAST-MODIFIED:20260408T143251Z
UID:10000378-1812380400-1812394800@presentpillars.org
SUMMARY:Man Cave Monday
DESCRIPTION:Man Cave Monday is a space for men to connect\, grow\, and have real conversations. Each week\, we focus on topics like fatherhood\, personal growth\, leadership\, and mental wellness. \nJoin us and be part of the growth.
URL:https://presentpillars.org/event/man-cave-monday/2027-06-07/
LOCATION:Pillar Center\, 315 East Main St\, Benton Harbor\, MI\, 49022\, United States
END:VEVENT
BEGIN:VEVENT
DTSTART;TZID=America/Detroit:20270614T150000
DTEND;TZID=America/Detroit:20270614T190000
DTSTAMP:20260421T214518
CREATED:20260408T143251Z
LAST-MODIFIED:20260408T143251Z
UID:10000379-1812985200-1812999600@presentpillars.org
SUMMARY:Man Cave Monday
DESCRIPTION:Man Cave Monday is a space for men to connect\, grow\, and have real conversations. Each week\, we focus on topics like fatherhood\, personal growth\, leadership\, and mental wellness. \nJoin us and be part of the growth.
URL:https://presentpillars.org/event/man-cave-monday/2027-06-14/
LOCATION:Pillar Center\, 315 East Main St\, Benton Harbor\, MI\, 49022\, United States
END:VEVENT
BEGIN:VEVENT
DTSTART;TZID=America/Detroit:20270621T150000
DTEND;TZID=America/Detroit:20270621T190000
DTSTAMP:20260421T214518
CREATED:20260408T143251Z
LAST-MODIFIED:20260408T143251Z
UID:10000380-1813590000-1813604400@presentpillars.org
SUMMARY:Man Cave Monday
DESCRIPTION:Man Cave Monday is a space for men to connect\, grow\, and have real conversations. Each week\, we focus on topics like fatherhood\, personal growth\, leadership\, and mental wellness. \nJoin us and be part of the growth.
URL:https://presentpillars.org/event/man-cave-monday/2027-06-21/
LOCATION:Pillar Center\, 315 East Main St\, Benton Harbor\, MI\, 49022\, United States
END:VEVENT
BEGIN:VEVENT
DTSTART;TZID=America/Detroit:20270628T150000
DTEND;TZID=America/Detroit:20270628T190000
DTSTAMP:20260421T214518
CREATED:20260408T143251Z
LAST-MODIFIED:20260408T143251Z
UID:10000381-1814194800-1814209200@presentpillars.org
SUMMARY:Man Cave Monday
DESCRIPTION:Man Cave Monday is a space for men to connect\, grow\, and have real conversations. Each week\, we focus on topics like fatherhood\, personal growth\, leadership\, and mental wellness. \nJoin us and be part of the growth.
URL:https://presentpillars.org/event/man-cave-monday/2027-06-28/
LOCATION:Pillar Center\, 315 East Main St\, Benton Harbor\, MI\, 49022\, United States
END:VEVENT
BEGIN:VEVENT
DTSTART;TZID=America/Detroit:20270705T150000
DTEND;TZID=America/Detroit:20270705T190000
DTSTAMP:20260421T214518
CREATED:20260408T143251Z
LAST-MODIFIED:20260408T143251Z
UID:10000382-1814799600-1814814000@presentpillars.org
SUMMARY:Man Cave Monday
DESCRIPTION:Man Cave Monday is a space for men to connect\, grow\, and have real conversations. Each week\, we focus on topics like fatherhood\, personal growth\, leadership\, and mental wellness. \nJoin us and be part of the growth.
URL:https://presentpillars.org/event/man-cave-monday/2027-07-05/
LOCATION:Pillar Center\, 315 East Main St\, Benton Harbor\, MI\, 49022\, United States
END:VEVENT
BEGIN:VEVENT
DTSTART;TZID=America/Detroit:20270712T150000
DTEND;TZID=America/Detroit:20270712T190000
DTSTAMP:20260421T214518
CREATED:20260408T143251Z
LAST-MODIFIED:20260408T143251Z
UID:10000383-1815404400-1815418800@presentpillars.org
SUMMARY:Man Cave Monday
DESCRIPTION:Man Cave Monday is a space for men to connect\, grow\, and have real conversations. Each week\, we focus on topics like fatherhood\, personal growth\, leadership\, and mental wellness. \nJoin us and be part of the growth.
URL:https://presentpillars.org/event/man-cave-monday/2027-07-12/
LOCATION:Pillar Center\, 315 East Main St\, Benton Harbor\, MI\, 49022\, United States
END:VEVENT
BEGIN:VEVENT
DTSTART;TZID=America/Detroit:20270719T150000
DTEND;TZID=America/Detroit:20270719T190000
DTSTAMP:20260421T214518
CREATED:20260408T143251Z
LAST-MODIFIED:20260408T143251Z
UID:10000384-1816009200-1816023600@presentpillars.org
SUMMARY:Man Cave Monday
DESCRIPTION:Man Cave Monday is a space for men to connect\, grow\, and have real conversations. Each week\, we focus on topics like fatherhood\, personal growth\, leadership\, and mental wellness. \nJoin us and be part of the growth.
URL:https://presentpillars.org/event/man-cave-monday/2027-07-19/
LOCATION:Pillar Center\, 315 East Main St\, Benton Harbor\, MI\, 49022\, United States
END:VEVENT
BEGIN:VEVENT
DTSTART;TZID=America/Detroit:20270726T150000
DTEND;TZID=America/Detroit:20270726T190000
DTSTAMP:20260421T214518
CREATED:20260408T143251Z
LAST-MODIFIED:20260408T143251Z
UID:10000385-1816614000-1816628400@presentpillars.org
SUMMARY:Man Cave Monday
DESCRIPTION:Man Cave Monday is a space for men to connect\, grow\, and have real conversations. Each week\, we focus on topics like fatherhood\, personal growth\, leadership\, and mental wellness. \nJoin us and be part of the growth.
URL:https://presentpillars.org/event/man-cave-monday/2027-07-26/
LOCATION:Pillar Center\, 315 East Main St\, Benton Harbor\, MI\, 49022\, United States
END:VEVENT
BEGIN:VEVENT
DTSTART;TZID=America/Detroit:20270802T150000
DTEND;TZID=America/Detroit:20270802T190000
DTSTAMP:20260421T214518
CREATED:20260408T143251Z
LAST-MODIFIED:20260408T143251Z
UID:10000386-1817218800-1817233200@presentpillars.org
SUMMARY:Man Cave Monday
DESCRIPTION:Man Cave Monday is a space for men to connect\, grow\, and have real conversations. Each week\, we focus on topics like fatherhood\, personal growth\, leadership\, and mental wellness. \nJoin us and be part of the growth.
URL:https://presentpillars.org/event/man-cave-monday/2027-08-02/
LOCATION:Pillar Center\, 315 East Main St\, Benton Harbor\, MI\, 49022\, United States
END:VEVENT
BEGIN:VEVENT
DTSTART;TZID=America/Detroit:20270809T150000
DTEND;TZID=America/Detroit:20270809T190000
DTSTAMP:20260421T214518
CREATED:20260408T143251Z
LAST-MODIFIED:20260408T143251Z
UID:10000387-1817823600-1817838000@presentpillars.org
SUMMARY:Man Cave Monday
DESCRIPTION:Man Cave Monday is a space for men to connect\, grow\, and have real conversations. Each week\, we focus on topics like fatherhood\, personal growth\, leadership\, and mental wellness. \nJoin us and be part of the growth.
URL:https://presentpillars.org/event/man-cave-monday/2027-08-09/
LOCATION:Pillar Center\, 315 East Main St\, Benton Harbor\, MI\, 49022\, United States
END:VEVENT
BEGIN:VEVENT
DTSTART;TZID=America/Detroit:20270816T150000
DTEND;TZID=America/Detroit:20270816T190000
DTSTAMP:20260421T214518
CREATED:20260408T143251Z
LAST-MODIFIED:20260408T143251Z
UID:10000388-1818428400-1818442800@presentpillars.org
SUMMARY:Man Cave Monday
DESCRIPTION:Man Cave Monday is a space for men to connect\, grow\, and have real conversations. Each week\, we focus on topics like fatherhood\, personal growth\, leadership\, and mental wellness. \nJoin us and be part of the growth.
URL:https://presentpillars.org/event/man-cave-monday/2027-08-16/
LOCATION:Pillar Center\, 315 East Main St\, Benton Harbor\, MI\, 49022\, United States
END:VEVENT
BEGIN:VEVENT
DTSTART;TZID=America/Detroit:20270823T150000
DTEND;TZID=America/Detroit:20270823T190000
DTSTAMP:20260421T214518
CREATED:20260408T143251Z
LAST-MODIFIED:20260408T143251Z
UID:10000389-1819033200-1819047600@presentpillars.org
SUMMARY:Man Cave Monday
DESCRIPTION:Man Cave Monday is a space for men to connect\, grow\, and have real conversations. Each week\, we focus on topics like fatherhood\, personal growth\, leadership\, and mental wellness. \nJoin us and be part of the growth.
URL:https://presentpillars.org/event/man-cave-monday/2027-08-23/
LOCATION:Pillar Center\, 315 East Main St\, Benton Harbor\, MI\, 49022\, United States
END:VEVENT
BEGIN:VEVENT
DTSTART;TZID=America/Detroit:20270830T150000
DTEND;TZID=America/Detroit:20270830T190000
DTSTAMP:20260421T214518
CREATED:20260408T143251Z
LAST-MODIFIED:20260408T143251Z
UID:10000390-1819638000-1819652400@presentpillars.org
SUMMARY:Man Cave Monday
DESCRIPTION:Man Cave Monday is a space for men to connect\, grow\, and have real conversations. Each week\, we focus on topics like fatherhood\, personal growth\, leadership\, and mental wellness. \nJoin us and be part of the growth.
URL:https://presentpillars.org/event/man-cave-monday/2027-08-30/
LOCATION:Pillar Center\, 315 East Main St\, Benton Harbor\, MI\, 49022\, United States
END:VEVENT
BEGIN:VEVENT
DTSTART;TZID=America/Detroit:20270906T150000
DTEND;TZID=America/Detroit:20270906T190000
DTSTAMP:20260421T214518
CREATED:20260408T143251Z
LAST-MODIFIED:20260408T143251Z
UID:10000391-1820242800-1820257200@presentpillars.org
SUMMARY:Man Cave Monday
DESCRIPTION:Man Cave Monday is a space for men to connect\, grow\, and have real conversations. Each week\, we focus on topics like fatherhood\, personal growth\, leadership\, and mental wellness. \nJoin us and be part of the growth.
URL:https://presentpillars.org/event/man-cave-monday/2027-09-06/
LOCATION:Pillar Center\, 315 East Main St\, Benton Harbor\, MI\, 49022\, United States
END:VEVENT
BEGIN:VEVENT
DTSTART;TZID=America/Detroit:20270913T150000
DTEND;TZID=America/Detroit:20270913T190000
DTSTAMP:20260421T214518
CREATED:20260408T143251Z
LAST-MODIFIED:20260408T143251Z
UID:10000392-1820847600-1820862000@presentpillars.org
SUMMARY:Man Cave Monday
DESCRIPTION:Man Cave Monday is a space for men to connect\, grow\, and have real conversations. Each week\, we focus on topics like fatherhood\, personal growth\, leadership\, and mental wellness. \nJoin us and be part of the growth.
URL:https://presentpillars.org/event/man-cave-monday/2027-09-13/
LOCATION:Pillar Center\, 315 East Main St\, Benton Harbor\, MI\, 49022\, United States
END:VEVENT
BEGIN:VEVENT
DTSTART;TZID=America/Detroit:20270920T150000
DTEND;TZID=America/Detroit:20270920T190000
DTSTAMP:20260421T214518
CREATED:20260408T143251Z
LAST-MODIFIED:20260408T143251Z
UID:10000393-1821452400-1821466800@presentpillars.org
SUMMARY:Man Cave Monday
DESCRIPTION:Man Cave Monday is a space for men to connect\, grow\, and have real conversations. Each week\, we focus on topics like fatherhood\, personal growth\, leadership\, and mental wellness. \nJoin us and be part of the growth.
URL:https://presentpillars.org/event/man-cave-monday/2027-09-20/
LOCATION:Pillar Center\, 315 East Main St\, Benton Harbor\, MI\, 49022\, United States
END:VEVENT
BEGIN:VEVENT
DTSTART;TZID=America/Detroit:20270927T150000
DTEND;TZID=America/Detroit:20270927T190000
DTSTAMP:20260421T214518
CREATED:20260408T143251Z
LAST-MODIFIED:20260408T143251Z
UID:10000394-1822057200-1822071600@presentpillars.org
SUMMARY:Man Cave Monday
DESCRIPTION:Man Cave Monday is a space for men to connect\, grow\, and have real conversations. Each week\, we focus on topics like fatherhood\, personal growth\, leadership\, and mental wellness. \nJoin us and be part of the growth.
URL:https://presentpillars.org/event/man-cave-monday/2027-09-27/
LOCATION:Pillar Center\, 315 East Main St\, Benton Harbor\, MI\, 49022\, United States
END:VEVENT
BEGIN:VEVENT
DTSTART;TZID=America/Detroit:20271004T150000
DTEND;TZID=America/Detroit:20271004T190000
DTSTAMP:20260421T214518
CREATED:20260408T143251Z
LAST-MODIFIED:20260408T143251Z
UID:10000395-1822662000-1822676400@presentpillars.org
SUMMARY:Man Cave Monday
DESCRIPTION:Man Cave Monday is a space for men to connect\, grow\, and have real conversations. Each week\, we focus on topics like fatherhood\, personal growth\, leadership\, and mental wellness. \nJoin us and be part of the growth.
URL:https://presentpillars.org/event/man-cave-monday/2027-10-04/
LOCATION:Pillar Center\, 315 East Main St\, Benton Harbor\, MI\, 49022\, United States
END:VEVENT
BEGIN:VEVENT
DTSTART;TZID=America/Detroit:20271011T150000
DTEND;TZID=America/Detroit:20271011T190000
DTSTAMP:20260421T214518
CREATED:20260408T143251Z
LAST-MODIFIED:20260408T143251Z
UID:10000396-1823266800-1823281200@presentpillars.org
SUMMARY:Man Cave Monday
DESCRIPTION:Man Cave Monday is a space for men to connect\, grow\, and have real conversations. Each week\, we focus on topics like fatherhood\, personal growth\, leadership\, and mental wellness. \nJoin us and be part of the growth.
URL:https://presentpillars.org/event/man-cave-monday/2027-10-11/
LOCATION:Pillar Center\, 315 East Main St\, Benton Harbor\, MI\, 49022\, United States
END:VEVENT
BEGIN:VEVENT
DTSTART;TZID=America/Detroit:20271018T150000
DTEND;TZID=America/Detroit:20271018T190000
DTSTAMP:20260421T214518
CREATED:20260408T143251Z
LAST-MODIFIED:20260408T143251Z
UID:10000397-1823871600-1823886000@presentpillars.org
SUMMARY:Man Cave Monday
DESCRIPTION:Man Cave Monday is a space for men to connect\, grow\, and have real conversations. Each week\, we focus on topics like fatherhood\, personal growth\, leadership\, and mental wellness. \nJoin us and be part of the growth.
URL:https://presentpillars.org/event/man-cave-monday/2027-10-18/
LOCATION:Pillar Center\, 315 East Main St\, Benton Harbor\, MI\, 49022\, United States
END:VEVENT
BEGIN:VEVENT
DTSTART;TZID=America/Detroit:20271025T150000
DTEND;TZID=America/Detroit:20271025T190000
DTSTAMP:20260421T214518
CREATED:20260408T143251Z
LAST-MODIFIED:20260408T143251Z
UID:10000398-1824476400-1824490800@presentpillars.org
SUMMARY:Man Cave Monday
DESCRIPTION:Man Cave Monday is a space for men to connect\, grow\, and have real conversations. Each week\, we focus on topics like fatherhood\, personal growth\, leadership\, and mental wellness. \nJoin us and be part of the growth.
URL:https://presentpillars.org/event/man-cave-monday/2027-10-25/
LOCATION:Pillar Center\, 315 East Main St\, Benton Harbor\, MI\, 49022\, United States
END:VEVENT
BEGIN:VEVENT
DTSTART;TZID=America/Detroit:20271101T150000
DTEND;TZID=America/Detroit:20271101T190000
DTSTAMP:20260421T214518
CREATED:20260408T143251Z
LAST-MODIFIED:20260408T143251Z
UID:10000399-1825081200-1825095600@presentpillars.org
SUMMARY:Man Cave Monday
DESCRIPTION:Man Cave Monday is a space for men to connect\, grow\, and have real conversations. Each week\, we focus on topics like fatherhood\, personal growth\, leadership\, and mental wellness. \nJoin us and be part of the growth.
URL:https://presentpillars.org/event/man-cave-monday/2027-11-01/
LOCATION:Pillar Center\, 315 East Main St\, Benton Harbor\, MI\, 49022\, United States
END:VEVENT
BEGIN:VEVENT
DTSTART;TZID=America/Detroit:20271108T150000
DTEND;TZID=America/Detroit:20271108T190000
DTSTAMP:20260421T214518
CREATED:20260408T143251Z
LAST-MODIFIED:20260408T143251Z
UID:10000400-1825686000-1825700400@presentpillars.org
SUMMARY:Man Cave Monday
DESCRIPTION:Man Cave Monday is a space for men to connect\, grow\, and have real conversations. Each week\, we focus on topics like fatherhood\, personal growth\, leadership\, and mental wellness. \nJoin us and be part of the growth.
URL:https://presentpillars.org/event/man-cave-monday/2027-11-08/
LOCATION:Pillar Center\, 315 East Main St\, Benton Harbor\, MI\, 49022\, United States
END:VEVENT
BEGIN:VEVENT
DTSTART;TZID=America/Detroit:20271115T150000
DTEND;TZID=America/Detroit:20271115T190000
DTSTAMP:20260421T214518
CREATED:20260408T143251Z
LAST-MODIFIED:20260408T143251Z
UID:10000401-1826290800-1826305200@presentpillars.org
SUMMARY:Man Cave Monday
DESCRIPTION:Man Cave Monday is a space for men to connect\, grow\, and have real conversations. Each week\, we focus on topics like fatherhood\, personal growth\, leadership\, and mental wellness. \nJoin us and be part of the growth.
URL:https://presentpillars.org/event/man-cave-monday/2027-11-15/
LOCATION:Pillar Center\, 315 East Main St\, Benton Harbor\, MI\, 49022\, United States
END:VEVENT
BEGIN:VEVENT
DTSTART;TZID=America/Detroit:20271122T150000
DTEND;TZID=America/Detroit:20271122T190000
DTSTAMP:20260421T214518
CREATED:20260408T143251Z
LAST-MODIFIED:20260408T143251Z
UID:10000402-1826895600-1826910000@presentpillars.org
SUMMARY:Man Cave Monday
DESCRIPTION:Man Cave Monday is a space for men to connect\, grow\, and have real conversations. Each week\, we focus on topics like fatherhood\, personal growth\, leadership\, and mental wellness. \nJoin us and be part of the growth.
URL:https://presentpillars.org/event/man-cave-monday/2027-11-22/
LOCATION:Pillar Center\, 315 East Main St\, Benton Harbor\, MI\, 49022\, United States
END:VEVENT
BEGIN:VEVENT
DTSTART;TZID=America/Detroit:20271129T150000
DTEND;TZID=America/Detroit:20271129T190000
DTSTAMP:20260421T214518
CREATED:20260408T143251Z
LAST-MODIFIED:20260408T143251Z
UID:10000403-1827500400-1827514800@presentpillars.org
SUMMARY:Man Cave Monday
DESCRIPTION:Man Cave Monday is a space for men to connect\, grow\, and have real conversations. Each week\, we focus on topics like fatherhood\, personal growth\, leadership\, and mental wellness. \nJoin us and be part of the growth.
URL:https://presentpillars.org/event/man-cave-monday/2027-11-29/
LOCATION:Pillar Center\, 315 East Main St\, Benton Harbor\, MI\, 49022\, United States
END:VEVENT
BEGIN:VEVENT
DTSTART;TZID=America/Detroit:20271206T150000
DTEND;TZID=America/Detroit:20271206T190000
DTSTAMP:20260421T214518
CREATED:20260408T143251Z
LAST-MODIFIED:20260408T143251Z
UID:10000404-1828105200-1828119600@presentpillars.org
SUMMARY:Man Cave Monday
DESCRIPTION:Man Cave Monday is a space for men to connect\, grow\, and have real conversations. Each week\, we focus on topics like fatherhood\, personal growth\, leadership\, and mental wellness. \nJoin us and be part of the growth.
URL:https://presentpillars.org/event/man-cave-monday/2027-12-06/
LOCATION:Pillar Center\, 315 East Main St\, Benton Harbor\, MI\, 49022\, United States
END:VEVENT
BEGIN:VEVENT
DTSTART;TZID=America/Detroit:20271213T150000
DTEND;TZID=America/Detroit:20271213T190000
DTSTAMP:20260421T214518
CREATED:20260408T143251Z
LAST-MODIFIED:20260408T143251Z
UID:10000405-1828710000-1828724400@presentpillars.org
SUMMARY:Man Cave Monday
DESCRIPTION:Man Cave Monday is a space for men to connect\, grow\, and have real conversations. Each week\, we focus on topics like fatherhood\, personal growth\, leadership\, and mental wellness. \nJoin us and be part of the growth.
URL:https://presentpillars.org/event/man-cave-monday/2027-12-13/
LOCATION:Pillar Center\, 315 East Main St\, Benton Harbor\, MI\, 49022\, United States
END:VEVENT
END:VCALENDAR