BEGIN:VCALENDAR
VERSION:2.0
PRODID:-//Present Pillars - ECPv6.15.17.1//NONSGML v1.0//EN
CALSCALE:GREGORIAN
METHOD:PUBLISH
X-ORIGINAL-URL:https://presentpillars.org
X-WR-CALDESC:Events for Present Pillars
REFRESH-INTERVAL;VALUE=DURATION:PT1H
X-Robots-Tag:noindex
X-PUBLISHED-TTL:PT1H
BEGIN:VTIMEZONE
TZID:America/Detroit
BEGIN:DAYLIGHT
TZOFFSETFROM:-0500
TZOFFSETTO:-0400
TZNAME:EDT
DTSTART:20260308T070000
END:DAYLIGHT
BEGIN:STANDARD
TZOFFSETFROM:-0400
TZOFFSETTO:-0500
TZNAME:EST
DTSTART:20261101T060000
END:STANDARD
BEGIN:DAYLIGHT
TZOFFSETFROM:-0500
TZOFFSETTO:-0400
TZNAME:EDT
DTSTART:20270314T070000
END:DAYLIGHT
BEGIN:STANDARD
TZOFFSETFROM:-0400
TZOFFSETTO:-0500
TZNAME:EST
DTSTART:20271107T060000
END:STANDARD
BEGIN:DAYLIGHT
TZOFFSETFROM:-0500
TZOFFSETTO:-0400
TZNAME:EDT
DTSTART:20280312T070000
END:DAYLIGHT
BEGIN:STANDARD
TZOFFSETFROM:-0400
TZOFFSETTO:-0500
TZNAME:EST
DTSTART:20281105T060000
END:STANDARD
BEGIN:DAYLIGHT
TZOFFSETFROM:-0500
TZOFFSETTO:-0400
TZNAME:EDT
DTSTART:20290311T070000
END:DAYLIGHT
BEGIN:STANDARD
TZOFFSETFROM:-0400
TZOFFSETTO:-0500
TZNAME:EST
DTSTART:20291104T060000
END:STANDARD
END:VTIMEZONE
BEGIN:VEVENT
DTSTART;TZID=America/Detroit:20271220T150000
DTEND;TZID=America/Detroit:20271220T190000
DTSTAMP:20260421T192151
CREATED:20260408T143251Z
LAST-MODIFIED:20260408T143251Z
UID:10000406-1829314800-1829329200@presentpillars.org
SUMMARY:Man Cave Monday
DESCRIPTION:Man Cave Monday is a space for men to connect\, grow\, and have real conversations. Each week\, we focus on topics like fatherhood\, personal growth\, leadership\, and mental wellness. \nJoin us and be part of the growth.
URL:https://presentpillars.org/event/man-cave-monday/2027-12-20/
LOCATION:Pillar Center\, 315 East Main St\, Benton Harbor\, MI\, 49022\, United States
END:VEVENT
BEGIN:VEVENT
DTSTART;TZID=America/Detroit:20271227T150000
DTEND;TZID=America/Detroit:20271227T190000
DTSTAMP:20260421T192151
CREATED:20260408T143251Z
LAST-MODIFIED:20260408T143251Z
UID:10000407-1829919600-1829934000@presentpillars.org
SUMMARY:Man Cave Monday
DESCRIPTION:Man Cave Monday is a space for men to connect\, grow\, and have real conversations. Each week\, we focus on topics like fatherhood\, personal growth\, leadership\, and mental wellness. \nJoin us and be part of the growth.
URL:https://presentpillars.org/event/man-cave-monday/2027-12-27/
LOCATION:Pillar Center\, 315 East Main St\, Benton Harbor\, MI\, 49022\, United States
END:VEVENT
BEGIN:VEVENT
DTSTART;TZID=America/Detroit:20280103T150000
DTEND;TZID=America/Detroit:20280103T190000
DTSTAMP:20260421T192151
CREATED:20260408T143251Z
LAST-MODIFIED:20260408T143251Z
UID:10000408-1830524400-1830538800@presentpillars.org
SUMMARY:Man Cave Monday
DESCRIPTION:Man Cave Monday is a space for men to connect\, grow\, and have real conversations. Each week\, we focus on topics like fatherhood\, personal growth\, leadership\, and mental wellness. \nJoin us and be part of the growth.
URL:https://presentpillars.org/event/man-cave-monday/2028-01-03/
LOCATION:Pillar Center\, 315 East Main St\, Benton Harbor\, MI\, 49022\, United States
END:VEVENT
BEGIN:VEVENT
DTSTART;TZID=America/Detroit:20280110T150000
DTEND;TZID=America/Detroit:20280110T190000
DTSTAMP:20260421T192151
CREATED:20260408T143251Z
LAST-MODIFIED:20260408T143251Z
UID:10000409-1831129200-1831143600@presentpillars.org
SUMMARY:Man Cave Monday
DESCRIPTION:Man Cave Monday is a space for men to connect\, grow\, and have real conversations. Each week\, we focus on topics like fatherhood\, personal growth\, leadership\, and mental wellness. \nJoin us and be part of the growth.
URL:https://presentpillars.org/event/man-cave-monday/2028-01-10/
LOCATION:Pillar Center\, 315 East Main St\, Benton Harbor\, MI\, 49022\, United States
END:VEVENT
BEGIN:VEVENT
DTSTART;TZID=America/Detroit:20280117T150000
DTEND;TZID=America/Detroit:20280117T190000
DTSTAMP:20260421T192151
CREATED:20260408T143251Z
LAST-MODIFIED:20260408T143251Z
UID:10000410-1831734000-1831748400@presentpillars.org
SUMMARY:Man Cave Monday
DESCRIPTION:Man Cave Monday is a space for men to connect\, grow\, and have real conversations. Each week\, we focus on topics like fatherhood\, personal growth\, leadership\, and mental wellness. \nJoin us and be part of the growth.
URL:https://presentpillars.org/event/man-cave-monday/2028-01-17/
LOCATION:Pillar Center\, 315 East Main St\, Benton Harbor\, MI\, 49022\, United States
END:VEVENT
BEGIN:VEVENT
DTSTART;TZID=America/Detroit:20280124T150000
DTEND;TZID=America/Detroit:20280124T190000
DTSTAMP:20260421T192151
CREATED:20260408T143251Z
LAST-MODIFIED:20260408T143251Z
UID:10000411-1832338800-1832353200@presentpillars.org
SUMMARY:Man Cave Monday
DESCRIPTION:Man Cave Monday is a space for men to connect\, grow\, and have real conversations. Each week\, we focus on topics like fatherhood\, personal growth\, leadership\, and mental wellness. \nJoin us and be part of the growth.
URL:https://presentpillars.org/event/man-cave-monday/2028-01-24/
LOCATION:Pillar Center\, 315 East Main St\, Benton Harbor\, MI\, 49022\, United States
END:VEVENT
BEGIN:VEVENT
DTSTART;TZID=America/Detroit:20280131T150000
DTEND;TZID=America/Detroit:20280131T190000
DTSTAMP:20260421T192151
CREATED:20260408T143251Z
LAST-MODIFIED:20260408T143251Z
UID:10000412-1832943600-1832958000@presentpillars.org
SUMMARY:Man Cave Monday
DESCRIPTION:Man Cave Monday is a space for men to connect\, grow\, and have real conversations. Each week\, we focus on topics like fatherhood\, personal growth\, leadership\, and mental wellness. \nJoin us and be part of the growth.
URL:https://presentpillars.org/event/man-cave-monday/2028-01-31/
LOCATION:Pillar Center\, 315 East Main St\, Benton Harbor\, MI\, 49022\, United States
END:VEVENT
BEGIN:VEVENT
DTSTART;TZID=America/Detroit:20280207T150000
DTEND;TZID=America/Detroit:20280207T190000
DTSTAMP:20260421T192151
CREATED:20260408T143251Z
LAST-MODIFIED:20260408T143251Z
UID:10000413-1833548400-1833562800@presentpillars.org
SUMMARY:Man Cave Monday
DESCRIPTION:Man Cave Monday is a space for men to connect\, grow\, and have real conversations. Each week\, we focus on topics like fatherhood\, personal growth\, leadership\, and mental wellness. \nJoin us and be part of the growth.
URL:https://presentpillars.org/event/man-cave-monday/2028-02-07/
LOCATION:Pillar Center\, 315 East Main St\, Benton Harbor\, MI\, 49022\, United States
END:VEVENT
BEGIN:VEVENT
DTSTART;TZID=America/Detroit:20280214T150000
DTEND;TZID=America/Detroit:20280214T190000
DTSTAMP:20260421T192151
CREATED:20260408T143251Z
LAST-MODIFIED:20260408T143251Z
UID:10000414-1834153200-1834167600@presentpillars.org
SUMMARY:Man Cave Monday
DESCRIPTION:Man Cave Monday is a space for men to connect\, grow\, and have real conversations. Each week\, we focus on topics like fatherhood\, personal growth\, leadership\, and mental wellness. \nJoin us and be part of the growth.
URL:https://presentpillars.org/event/man-cave-monday/2028-02-14/
LOCATION:Pillar Center\, 315 East Main St\, Benton Harbor\, MI\, 49022\, United States
END:VEVENT
BEGIN:VEVENT
DTSTART;TZID=America/Detroit:20280221T150000
DTEND;TZID=America/Detroit:20280221T190000
DTSTAMP:20260421T192152
CREATED:20260408T143251Z
LAST-MODIFIED:20260408T143251Z
UID:10000415-1834758000-1834772400@presentpillars.org
SUMMARY:Man Cave Monday
DESCRIPTION:Man Cave Monday is a space for men to connect\, grow\, and have real conversations. Each week\, we focus on topics like fatherhood\, personal growth\, leadership\, and mental wellness. \nJoin us and be part of the growth.
URL:https://presentpillars.org/event/man-cave-monday/2028-02-21/
LOCATION:Pillar Center\, 315 East Main St\, Benton Harbor\, MI\, 49022\, United States
END:VEVENT
BEGIN:VEVENT
DTSTART;TZID=America/Detroit:20280228T150000
DTEND;TZID=America/Detroit:20280228T190000
DTSTAMP:20260421T192152
CREATED:20260408T143251Z
LAST-MODIFIED:20260408T143251Z
UID:10000416-1835362800-1835377200@presentpillars.org
SUMMARY:Man Cave Monday
DESCRIPTION:Man Cave Monday is a space for men to connect\, grow\, and have real conversations. Each week\, we focus on topics like fatherhood\, personal growth\, leadership\, and mental wellness. \nJoin us and be part of the growth.
URL:https://presentpillars.org/event/man-cave-monday/2028-02-28/
LOCATION:Pillar Center\, 315 East Main St\, Benton Harbor\, MI\, 49022\, United States
END:VEVENT
BEGIN:VEVENT
DTSTART;TZID=America/Detroit:20280306T150000
DTEND;TZID=America/Detroit:20280306T190000
DTSTAMP:20260421T192152
CREATED:20260408T143251Z
LAST-MODIFIED:20260408T143251Z
UID:10000417-1835967600-1835982000@presentpillars.org
SUMMARY:Man Cave Monday
DESCRIPTION:Man Cave Monday is a space for men to connect\, grow\, and have real conversations. Each week\, we focus on topics like fatherhood\, personal growth\, leadership\, and mental wellness. \nJoin us and be part of the growth.
URL:https://presentpillars.org/event/man-cave-monday/2028-03-06/
LOCATION:Pillar Center\, 315 East Main St\, Benton Harbor\, MI\, 49022\, United States
END:VEVENT
BEGIN:VEVENT
DTSTART;TZID=America/Detroit:20280313T150000
DTEND;TZID=America/Detroit:20280313T190000
DTSTAMP:20260421T192152
CREATED:20260408T143251Z
LAST-MODIFIED:20260408T143251Z
UID:10000418-1836572400-1836586800@presentpillars.org
SUMMARY:Man Cave Monday
DESCRIPTION:Man Cave Monday is a space for men to connect\, grow\, and have real conversations. Each week\, we focus on topics like fatherhood\, personal growth\, leadership\, and mental wellness. \nJoin us and be part of the growth.
URL:https://presentpillars.org/event/man-cave-monday/2028-03-13/
LOCATION:Pillar Center\, 315 East Main St\, Benton Harbor\, MI\, 49022\, United States
END:VEVENT
BEGIN:VEVENT
DTSTART;TZID=America/Detroit:20280320T150000
DTEND;TZID=America/Detroit:20280320T190000
DTSTAMP:20260421T192152
CREATED:20260408T143251Z
LAST-MODIFIED:20260408T143251Z
UID:10000419-1837177200-1837191600@presentpillars.org
SUMMARY:Man Cave Monday
DESCRIPTION:Man Cave Monday is a space for men to connect\, grow\, and have real conversations. Each week\, we focus on topics like fatherhood\, personal growth\, leadership\, and mental wellness. \nJoin us and be part of the growth.
URL:https://presentpillars.org/event/man-cave-monday/2028-03-20/
LOCATION:Pillar Center\, 315 East Main St\, Benton Harbor\, MI\, 49022\, United States
END:VEVENT
BEGIN:VEVENT
DTSTART;TZID=America/Detroit:20280327T150000
DTEND;TZID=America/Detroit:20280327T190000
DTSTAMP:20260421T192152
CREATED:20260408T143251Z
LAST-MODIFIED:20260408T143251Z
UID:10000420-1837782000-1837796400@presentpillars.org
SUMMARY:Man Cave Monday
DESCRIPTION:Man Cave Monday is a space for men to connect\, grow\, and have real conversations. Each week\, we focus on topics like fatherhood\, personal growth\, leadership\, and mental wellness. \nJoin us and be part of the growth.
URL:https://presentpillars.org/event/man-cave-monday/2028-03-27/
LOCATION:Pillar Center\, 315 East Main St\, Benton Harbor\, MI\, 49022\, United States
END:VEVENT
BEGIN:VEVENT
DTSTART;TZID=America/Detroit:20280403T150000
DTEND;TZID=America/Detroit:20280403T190000
DTSTAMP:20260421T192152
CREATED:20260408T143251Z
LAST-MODIFIED:20260408T143251Z
UID:10000421-1838386800-1838401200@presentpillars.org
SUMMARY:Man Cave Monday
DESCRIPTION:Man Cave Monday is a space for men to connect\, grow\, and have real conversations. Each week\, we focus on topics like fatherhood\, personal growth\, leadership\, and mental wellness. \nJoin us and be part of the growth.
URL:https://presentpillars.org/event/man-cave-monday/2028-04-03/
LOCATION:Pillar Center\, 315 East Main St\, Benton Harbor\, MI\, 49022\, United States
END:VEVENT
BEGIN:VEVENT
DTSTART;TZID=America/Detroit:20280410T150000
DTEND;TZID=America/Detroit:20280410T190000
DTSTAMP:20260421T192152
CREATED:20260408T143251Z
LAST-MODIFIED:20260408T143251Z
UID:10000422-1838991600-1839006000@presentpillars.org
SUMMARY:Man Cave Monday
DESCRIPTION:Man Cave Monday is a space for men to connect\, grow\, and have real conversations. Each week\, we focus on topics like fatherhood\, personal growth\, leadership\, and mental wellness. \nJoin us and be part of the growth.
URL:https://presentpillars.org/event/man-cave-monday/2028-04-10/
LOCATION:Pillar Center\, 315 East Main St\, Benton Harbor\, MI\, 49022\, United States
END:VEVENT
BEGIN:VEVENT
DTSTART;TZID=America/Detroit:20280417T150000
DTEND;TZID=America/Detroit:20280417T190000
DTSTAMP:20260421T192152
CREATED:20260408T143251Z
LAST-MODIFIED:20260408T143251Z
UID:10000423-1839596400-1839610800@presentpillars.org
SUMMARY:Man Cave Monday
DESCRIPTION:Man Cave Monday is a space for men to connect\, grow\, and have real conversations. Each week\, we focus on topics like fatherhood\, personal growth\, leadership\, and mental wellness. \nJoin us and be part of the growth.
URL:https://presentpillars.org/event/man-cave-monday/2028-04-17/
LOCATION:Pillar Center\, 315 East Main St\, Benton Harbor\, MI\, 49022\, United States
END:VEVENT
BEGIN:VEVENT
DTSTART;TZID=America/Detroit:20280424T150000
DTEND;TZID=America/Detroit:20280424T190000
DTSTAMP:20260421T192152
CREATED:20260408T143251Z
LAST-MODIFIED:20260408T143251Z
UID:10000424-1840201200-1840215600@presentpillars.org
SUMMARY:Man Cave Monday
DESCRIPTION:Man Cave Monday is a space for men to connect\, grow\, and have real conversations. Each week\, we focus on topics like fatherhood\, personal growth\, leadership\, and mental wellness. \nJoin us and be part of the growth.
URL:https://presentpillars.org/event/man-cave-monday/2028-04-24/
LOCATION:Pillar Center\, 315 East Main St\, Benton Harbor\, MI\, 49022\, United States
END:VEVENT
BEGIN:VEVENT
DTSTART;TZID=America/Detroit:20280501T150000
DTEND;TZID=America/Detroit:20280501T190000
DTSTAMP:20260421T192152
CREATED:20260408T143251Z
LAST-MODIFIED:20260408T143251Z
UID:10000425-1840806000-1840820400@presentpillars.org
SUMMARY:Man Cave Monday
DESCRIPTION:Man Cave Monday is a space for men to connect\, grow\, and have real conversations. Each week\, we focus on topics like fatherhood\, personal growth\, leadership\, and mental wellness. \nJoin us and be part of the growth.
URL:https://presentpillars.org/event/man-cave-monday/2028-05-01/
LOCATION:Pillar Center\, 315 East Main St\, Benton Harbor\, MI\, 49022\, United States
END:VEVENT
BEGIN:VEVENT
DTSTART;TZID=America/Detroit:20280508T150000
DTEND;TZID=America/Detroit:20280508T190000
DTSTAMP:20260421T192152
CREATED:20260408T143251Z
LAST-MODIFIED:20260408T143251Z
UID:10000426-1841410800-1841425200@presentpillars.org
SUMMARY:Man Cave Monday
DESCRIPTION:Man Cave Monday is a space for men to connect\, grow\, and have real conversations. Each week\, we focus on topics like fatherhood\, personal growth\, leadership\, and mental wellness. \nJoin us and be part of the growth.
URL:https://presentpillars.org/event/man-cave-monday/2028-05-08/
LOCATION:Pillar Center\, 315 East Main St\, Benton Harbor\, MI\, 49022\, United States
END:VEVENT
BEGIN:VEVENT
DTSTART;TZID=America/Detroit:20280515T150000
DTEND;TZID=America/Detroit:20280515T190000
DTSTAMP:20260421T192152
CREATED:20260408T143251Z
LAST-MODIFIED:20260408T143251Z
UID:10000427-1842015600-1842030000@presentpillars.org
SUMMARY:Man Cave Monday
DESCRIPTION:Man Cave Monday is a space for men to connect\, grow\, and have real conversations. Each week\, we focus on topics like fatherhood\, personal growth\, leadership\, and mental wellness. \nJoin us and be part of the growth.
URL:https://presentpillars.org/event/man-cave-monday/2028-05-15/
LOCATION:Pillar Center\, 315 East Main St\, Benton Harbor\, MI\, 49022\, United States
END:VEVENT
BEGIN:VEVENT
DTSTART;TZID=America/Detroit:20280522T150000
DTEND;TZID=America/Detroit:20280522T190000
DTSTAMP:20260421T192152
CREATED:20260408T143251Z
LAST-MODIFIED:20260408T143251Z
UID:10000428-1842620400-1842634800@presentpillars.org
SUMMARY:Man Cave Monday
DESCRIPTION:Man Cave Monday is a space for men to connect\, grow\, and have real conversations. Each week\, we focus on topics like fatherhood\, personal growth\, leadership\, and mental wellness. \nJoin us and be part of the growth.
URL:https://presentpillars.org/event/man-cave-monday/2028-05-22/
LOCATION:Pillar Center\, 315 East Main St\, Benton Harbor\, MI\, 49022\, United States
END:VEVENT
BEGIN:VEVENT
DTSTART;TZID=America/Detroit:20280529T150000
DTEND;TZID=America/Detroit:20280529T190000
DTSTAMP:20260421T192152
CREATED:20260408T143251Z
LAST-MODIFIED:20260408T143251Z
UID:10000429-1843225200-1843239600@presentpillars.org
SUMMARY:Man Cave Monday
DESCRIPTION:Man Cave Monday is a space for men to connect\, grow\, and have real conversations. Each week\, we focus on topics like fatherhood\, personal growth\, leadership\, and mental wellness. \nJoin us and be part of the growth.
URL:https://presentpillars.org/event/man-cave-monday/2028-05-29/
LOCATION:Pillar Center\, 315 East Main St\, Benton Harbor\, MI\, 49022\, United States
END:VEVENT
BEGIN:VEVENT
DTSTART;TZID=America/Detroit:20280605T150000
DTEND;TZID=America/Detroit:20280605T190000
DTSTAMP:20260421T192152
CREATED:20260408T143251Z
LAST-MODIFIED:20260408T143251Z
UID:10000430-1843830000-1843844400@presentpillars.org
SUMMARY:Man Cave Monday
DESCRIPTION:Man Cave Monday is a space for men to connect\, grow\, and have real conversations. Each week\, we focus on topics like fatherhood\, personal growth\, leadership\, and mental wellness. \nJoin us and be part of the growth.
URL:https://presentpillars.org/event/man-cave-monday/2028-06-05/
LOCATION:Pillar Center\, 315 East Main St\, Benton Harbor\, MI\, 49022\, United States
END:VEVENT
BEGIN:VEVENT
DTSTART;TZID=America/Detroit:20280612T150000
DTEND;TZID=America/Detroit:20280612T190000
DTSTAMP:20260421T192152
CREATED:20260408T143251Z
LAST-MODIFIED:20260408T143251Z
UID:10000431-1844434800-1844449200@presentpillars.org
SUMMARY:Man Cave Monday
DESCRIPTION:Man Cave Monday is a space for men to connect\, grow\, and have real conversations. Each week\, we focus on topics like fatherhood\, personal growth\, leadership\, and mental wellness. \nJoin us and be part of the growth.
URL:https://presentpillars.org/event/man-cave-monday/2028-06-12/
LOCATION:Pillar Center\, 315 East Main St\, Benton Harbor\, MI\, 49022\, United States
END:VEVENT
BEGIN:VEVENT
DTSTART;TZID=America/Detroit:20280619T150000
DTEND;TZID=America/Detroit:20280619T190000
DTSTAMP:20260421T192152
CREATED:20260408T143251Z
LAST-MODIFIED:20260408T143251Z
UID:10000432-1845039600-1845054000@presentpillars.org
SUMMARY:Man Cave Monday
DESCRIPTION:Man Cave Monday is a space for men to connect\, grow\, and have real conversations. Each week\, we focus on topics like fatherhood\, personal growth\, leadership\, and mental wellness. \nJoin us and be part of the growth.
URL:https://presentpillars.org/event/man-cave-monday/2028-06-19/
LOCATION:Pillar Center\, 315 East Main St\, Benton Harbor\, MI\, 49022\, United States
END:VEVENT
BEGIN:VEVENT
DTSTART;TZID=America/Detroit:20280626T150000
DTEND;TZID=America/Detroit:20280626T190000
DTSTAMP:20260421T192152
CREATED:20260408T143251Z
LAST-MODIFIED:20260408T143251Z
UID:10000433-1845644400-1845658800@presentpillars.org
SUMMARY:Man Cave Monday
DESCRIPTION:Man Cave Monday is a space for men to connect\, grow\, and have real conversations. Each week\, we focus on topics like fatherhood\, personal growth\, leadership\, and mental wellness. \nJoin us and be part of the growth.
URL:https://presentpillars.org/event/man-cave-monday/2028-06-26/
LOCATION:Pillar Center\, 315 East Main St\, Benton Harbor\, MI\, 49022\, United States
END:VEVENT
BEGIN:VEVENT
DTSTART;TZID=America/Detroit:20280703T150000
DTEND;TZID=America/Detroit:20280703T190000
DTSTAMP:20260421T192152
CREATED:20260408T143251Z
LAST-MODIFIED:20260408T143251Z
UID:10000434-1846249200-1846263600@presentpillars.org
SUMMARY:Man Cave Monday
DESCRIPTION:Man Cave Monday is a space for men to connect\, grow\, and have real conversations. Each week\, we focus on topics like fatherhood\, personal growth\, leadership\, and mental wellness. \nJoin us and be part of the growth.
URL:https://presentpillars.org/event/man-cave-monday/2028-07-03/
LOCATION:Pillar Center\, 315 East Main St\, Benton Harbor\, MI\, 49022\, United States
END:VEVENT
BEGIN:VEVENT
DTSTART;TZID=America/Detroit:20280710T150000
DTEND;TZID=America/Detroit:20280710T190000
DTSTAMP:20260421T192152
CREATED:20260408T143251Z
LAST-MODIFIED:20260408T143251Z
UID:10000435-1846854000-1846868400@presentpillars.org
SUMMARY:Man Cave Monday
DESCRIPTION:Man Cave Monday is a space for men to connect\, grow\, and have real conversations. Each week\, we focus on topics like fatherhood\, personal growth\, leadership\, and mental wellness. \nJoin us and be part of the growth.
URL:https://presentpillars.org/event/man-cave-monday/2028-07-10/
LOCATION:Pillar Center\, 315 East Main St\, Benton Harbor\, MI\, 49022\, United States
END:VEVENT
END:VCALENDAR